BEGIN:VCALENDAR
VERSION:2.0
PRODID:-//Community Minded Enterprises - ECPv6.15.20//NONSGML v1.0//EN
CALSCALE:GREGORIAN
METHOD:PUBLISH
X-ORIGINAL-URL:https://community-minded.org
X-WR-CALDESC:Events for Community Minded Enterprises
REFRESH-INTERVAL;VALUE=DURATION:PT1H
X-Robots-Tag:noindex
X-PUBLISHED-TTL:PT1H
BEGIN:VTIMEZONE
TZID:America/Los_Angeles
BEGIN:DAYLIGHT
TZOFFSETFROM:-0800
TZOFFSETTO:-0700
TZNAME:PDT
DTSTART:20210314T100000
END:DAYLIGHT
BEGIN:STANDARD
TZOFFSETFROM:-0700
TZOFFSETTO:-0800
TZNAME:PST
DTSTART:20211107T090000
END:STANDARD
BEGIN:DAYLIGHT
TZOFFSETFROM:-0800
TZOFFSETTO:-0700
TZNAME:PDT
DTSTART:20220313T100000
END:DAYLIGHT
BEGIN:STANDARD
TZOFFSETFROM:-0700
TZOFFSETTO:-0800
TZNAME:PST
DTSTART:20221106T090000
END:STANDARD
BEGIN:DAYLIGHT
TZOFFSETFROM:-0800
TZOFFSETTO:-0700
TZNAME:PDT
DTSTART:20230312T100000
END:DAYLIGHT
BEGIN:STANDARD
TZOFFSETFROM:-0700
TZOFFSETTO:-0800
TZNAME:PST
DTSTART:20231105T090000
END:STANDARD
END:VTIMEZONE
BEGIN:VEVENT
DTSTART;TZID=America/Los_Angeles:20220806T090000
DTEND;TZID=America/Los_Angeles:20220806T130000
DTSTAMP:20260423T003240
CREATED:20220602T210229Z
LAST-MODIFIED:20220705T222038Z
UID:10000940-1659776400-1659790800@community-minded.org
SUMMARY:El Negocio del Cuidado Infantil- Cuidado Infantil Familiar: En Persona (Pasco)
DESCRIPTION:Ubicación: 1923 N 20th Ave\, Pasco \nAptitudes principales: Planificación y desarrollo de programas\, desarrollo profesional y liderazgo\, nivel 3-5 \nEntrenedor: Veronica Al-Sumaeel \nHoras de STARS: 16 \nDescripción: \nEste es un plan de estudios de negocios integral diseñado exclusivamente para dueños y administradores de cuidado infantil familiar. Este plan de estudios cubre planes de negocios\, mercadotecnia y finanzas. Ofrece herramientas y actividades de aprendizaje prácticas para fortalecer las empresas de cuidado infantil familiar\, prepararse para las oportunidades de préstamos y mejorar las instalaciones\, el mercadotecia del programa y la eficacia general del programa. \nEsta clase es totalmente en persona. Por favor planee asistir a las cuatro fechas enumeradas a continuación. \n\nel 6 de agosto- Introducción a un negocio sólido\nel 20 de agosto- Estrategias de mercadotecnia\nel 10 de septiembre- Finanzas con técnica\nel 24 de septiembre- Día de proyecto\n\n  \nSi las circunstancias obligan a cancelar nuestras clases presenciales (o un cambio a un formato en Zoom)\, comunicaremos con aquellos que estén registrados. Del mismo modo\, si las condiciones o los protocolos de COVID lo llevan a querer cancelar su asistencia\, avísenos antes del mediodía del día anterior a su clase y le emitiremos un reembolso completo u ofreceremos un intercambio si corresponde. \nSe seguirán los siguientes protocolos: \n\nLas superficies se desinfectarán antes de la clase\nSe pedirá a los participantes que respondan a un examen de salud al ingresar\nSi presenta algún síntoma de enfermedad\, no asista por favor\nEl tamaño de las clases se limitará para acomodar a las personas con un espacio de 6 pies (regístrese con anticipación para guardar su asiento)\nLas ventanas y puertas pueden estar al menos parcialmente abiertas para estimular el flujo de aire (considere la posibilidad de colocar capas)\nSe requerirán máscaras para todos los participantes (por favor traiga la suya)\nHabrá desinfectante de manos disponible en nuestras aulas\nLe solicitamos que traiga su propio bolígrafo / lápiz y papel\, para evitar compartir materiales\nPor razones de salud\, no comeremos en nuestros espacios de entrenamiento en este momento.\n\nNos gustaría que todos los que asisten a nuestras capacitaciones tengan la oportunidad de beneficiarse de su aprendizaje. Si necesita adaptaciones para participar plenamente\, comuníquese con professionaldevelopment@community-mind.org al menos una semana antes de la capacitación.
URL:https://community-minded.org/event/el-negocio-del-cuidado-infantil-cuidado-infantil-familiar-en-persona-pasco/
LOCATION:Tri Cities Office\, 1923 N 20th Ave\, Pasco\, WA\, 99301\, United States
CATEGORIES:Early Learning - Benton/Franklin County
ORGANIZER;CN="Child Care Aware of Eastern Washington":MAILTO:ProfessionalDevelopment@community-minded.org
GEO:46.2463776;-119.1167376
X-APPLE-STRUCTURED-LOCATION;VALUE=URI;X-ADDRESS=Tri Cities Office 1923 N 20th Ave Pasco WA 99301 United States;X-APPLE-RADIUS=500;X-TITLE=1923 N 20th Ave:geo:-119.1167376,46.2463776
END:VEVENT
END:VCALENDAR