BEGIN:VCALENDAR
VERSION:2.0
PRODID:-//Community Minded Enterprises - ECPv6.15.20//NONSGML v1.0//EN
CALSCALE:GREGORIAN
METHOD:PUBLISH
X-WR-CALNAME:Community Minded Enterprises
X-ORIGINAL-URL:https://community-minded.org
X-WR-CALDESC:Events for Community Minded Enterprises
REFRESH-INTERVAL;VALUE=DURATION:PT1H
X-Robots-Tag:noindex
X-PUBLISHED-TTL:PT1H
BEGIN:VTIMEZONE
TZID:America/Los_Angeles
BEGIN:DAYLIGHT
TZOFFSETFROM:-0800
TZOFFSETTO:-0700
TZNAME:PDT
DTSTART:20210314T100000
END:DAYLIGHT
BEGIN:STANDARD
TZOFFSETFROM:-0700
TZOFFSETTO:-0800
TZNAME:PST
DTSTART:20211107T090000
END:STANDARD
BEGIN:DAYLIGHT
TZOFFSETFROM:-0800
TZOFFSETTO:-0700
TZNAME:PDT
DTSTART:20220313T100000
END:DAYLIGHT
BEGIN:STANDARD
TZOFFSETFROM:-0700
TZOFFSETTO:-0800
TZNAME:PST
DTSTART:20221106T090000
END:STANDARD
BEGIN:DAYLIGHT
TZOFFSETFROM:-0800
TZOFFSETTO:-0700
TZNAME:PDT
DTSTART:20230312T100000
END:DAYLIGHT
BEGIN:STANDARD
TZOFFSETFROM:-0700
TZOFFSETTO:-0800
TZNAME:PST
DTSTART:20231105T090000
END:STANDARD
END:VTIMEZONE
BEGIN:VEVENT
DTSTART;TZID=America/Los_Angeles:20220916T183000
DTEND;TZID=America/Los_Angeles:20220916T203000
DTSTAMP:20260423T030633
CREATED:20220816T193330Z
LAST-MODIFIED:20220915T213957Z
UID:10000945-1663353000-1663360200@community-minded.org
SUMMARY:Un enfoque socioemocional para abordar las mordeduras (en persona\, Pasco)
DESCRIPTION:Si tiene dificultades técnicas para registrarse en Internet\, llame al (509) 385-2780 para obtener ayuda con el registro por teléfono.\nUbicación: 1923 N 20th Ave\, Pasco \nAptitudes Currículo y Ambiente de Aprendizaje\, Familias y Asociaciones Comunitarias\, Niveles 1-3 \nEntrenedor: Domitila Morales \nHoras de STARS: 2 \nDescripción: \nÚnase a nosotros mientras nos sumergimos profundamente en la adopción de un enfoque socioemocional para morder. Morder genera muchas emociones para todos los involucrados y es un comportamiento apropiado para el desarrollo de bebés y niños pequeños. Durante nuestro tiempo juntos\, nos centraremos en las muchas razones por las que se muerde\, las formas de mantener la calma y la curiosidad cuando sucede\, y las estrategias sobre cómo responder. A lo largo de la capacitación\, los participantes reflexionarán sobre preguntas y habilidades que los guiarán para crear un plan de acción y comunicarse con las familias. \n  \nSi las circunstancias obligan a cancelar nuestras clases presenciales (o un cambio a un formato en Zoom)\, comunicaremos con aquellos que estén registrados. Del mismo modo\, si las condiciones o los protocolos de COVID lo llevan a querer cancelar su asistencia\, avísenos antes del mediodía del día anterior a su clase y le emitiremos un reembolso completo u ofreceremos un intercambio si corresponde. \nSe seguirán los siguientes protocolos: \n\nLas superficies se desinfectarán antes de la clase\nSe pedirá a los participantes que respondan a un examen de salud al ingresar\nSi presenta algún síntoma de enfermedad\, no asista por favor\nEl tamaño de las clases se limitará para acomodar a las personas con un espacio de 6 pies (regístrese con anticipación para guardar su asiento)\nLas ventanas y puertas pueden estar al menos parcialmente abiertas para estimular el flujo de aire (considere la posibilidad de colocar capas)\nSe requerirán máscaras para todos los participantes (por favor traiga la suya)\nHabrá desinfectante de manos disponible en nuestras aulas\nLe solicitamos que traiga su propio bolígrafo / lápiz y papel\, para evitar compartir materiales\nPor razones de salud\, no comeremos en nuestros espacios de entrenamiento en este momento.\n\nNos gustaría que todos los que asisten a nuestras capacitaciones tengan la oportunidad de beneficiarse de su aprendizaje. Si necesita adaptaciones para participar plenamente\, comuníquese con professionaldevelopment@community-mind.org al menos una semana antes de la capacitación.
URL:https://community-minded.org/event/un-enfoque-socioemocional-para-abordar-las-mordeduras-en-persona-pasco-2/
LOCATION:Tri Cities Office\, 1923 N 20th Ave\, Pasco\, WA\, 99301\, United States
CATEGORIES:Early Learning - Benton/Franklin County
ORGANIZER;CN="Child Care Aware of Eastern Washington":MAILTO:ProfessionalDevelopment@community-minded.org
GEO:46.2463776;-119.1167376
X-APPLE-STRUCTURED-LOCATION;VALUE=URI;X-ADDRESS=Tri Cities Office 1923 N 20th Ave Pasco WA 99301 United States;X-APPLE-RADIUS=500;X-TITLE=1923 N 20th Ave:geo:-119.1167376,46.2463776
END:VEVENT
END:VCALENDAR