BEGIN:VCALENDAR
VERSION:2.0
PRODID:-//Community Minded Enterprises - ECPv6.15.20//NONSGML v1.0//EN
CALSCALE:GREGORIAN
METHOD:PUBLISH
X-WR-CALNAME:Community Minded Enterprises
X-ORIGINAL-URL:https://community-minded.org
X-WR-CALDESC:Events for Community Minded Enterprises
REFRESH-INTERVAL;VALUE=DURATION:PT1H
X-Robots-Tag:noindex
X-PUBLISHED-TTL:PT1H
BEGIN:VTIMEZONE
TZID:America/Los_Angeles
BEGIN:DAYLIGHT
TZOFFSETFROM:-0800
TZOFFSETTO:-0700
TZNAME:PDT
DTSTART:20220313T100000
END:DAYLIGHT
BEGIN:STANDARD
TZOFFSETFROM:-0700
TZOFFSETTO:-0800
TZNAME:PST
DTSTART:20221106T090000
END:STANDARD
BEGIN:DAYLIGHT
TZOFFSETFROM:-0800
TZOFFSETTO:-0700
TZNAME:PDT
DTSTART:20230312T100000
END:DAYLIGHT
BEGIN:STANDARD
TZOFFSETFROM:-0700
TZOFFSETTO:-0800
TZNAME:PST
DTSTART:20231105T090000
END:STANDARD
BEGIN:DAYLIGHT
TZOFFSETFROM:-0800
TZOFFSETTO:-0700
TZNAME:PDT
DTSTART:20240310T100000
END:DAYLIGHT
BEGIN:STANDARD
TZOFFSETFROM:-0700
TZOFFSETTO:-0800
TZNAME:PST
DTSTART:20241103T090000
END:STANDARD
END:VTIMEZONE
BEGIN:VEVENT
DTSTART;TZID=America/Los_Angeles:20230225T090000
DTEND;TZID=America/Los_Angeles:20230225T120000
DTSTAMP:20260422T092022
CREATED:20221201T180507Z
LAST-MODIFIED:20230103T223127Z
UID:10000959-1677315600-1677326400@community-minded.org
SUMMARY:¿Tiene que ser difícil? Reflexionando sobre la individualización (en persona)
DESCRIPTION:Ubicación: 11923 N 20th Ave Pasco\, WA 99301 \nAptitudes principales: Currículo y ambiente de aprendizaje\, nivel 3-4 \nEntrenedor: Stefany Guevara \nHoras de STARS: 3 \nCada niño viene con un conjunto diferente de habilidades y necesidades. ¿Cómo creamos planes de lecciones que realmente podamos cumplir? ¡La individualización no tiene por qué ser complicada! Venga a examinar la definición más reciente de NAEYC de práctica apropiada para el desarrollo y los principios detrás de ella. Aprenda nuevas estrategias para individualizarse dentro de grupos de niños pequeños\, aumentar el aprendizaje alegre y centrarse en las fortalezas\, la cultura y las necesidades de cada niño. Aprenda a articular exactamente cómo está individualizando su enseñanza. \n  \nSi las circunstancias obligan a cancelar nuestras clases presenciales (o un cambio a un formato en Zoom)\, comunicaremos con aquellos que estén registrados. Del mismo modo\, si las condiciones o los protocolos de COVID lo llevan a querer cancelar su asistencia\, avísenos antes del mediodía del día anterior a su clase y le emitiremos un reembolso completo u ofreceremos un intercambio si corresponde. \nSe seguirán los siguientes protocolos: \n\nLas superficies se desinfectarán antes de la clase\nSe pedirá a los participantes que respondan a un examen de salud al ingresar\nSi presenta algún síntoma de enfermedad\, no asista por favor\nEl tamaño de las clases se limitará para acomodar a las personas con un espacio de 6 pies (regístrese con anticipación para guardar su asiento)\nLas ventanas y puertas pueden estar al menos parcialmente abiertas para estimular el flujo de aire (considere la posibilidad de colocar capas)\nRecomendamos máscaras para todos los participantes (por favor traiga la suya)\nHabrá desinfectante de manos disponible en nuestras aulas\nLe solicitamos que traiga su propio bolígrafo / lápiz y papel\, para evitar compartir materiales\nPor razones de salud\, no comeremos en nuestros espacios de entrenamiento en este momento.
URL:https://community-minded.org/event/tiene-que-ser-duro-repensar-la-individualizacion-en-persona/
LOCATION:Tri Cities Office\, 1923 N 20th Ave\, Pasco\, WA\, 99301\, United States
CATEGORIES:Early Learning - Benton/Franklin County
ORGANIZER;CN="Child Care Aware of Eastern Washington":MAILTO:ProfessionalDevelopment@community-minded.org
GEO:46.2463776;-119.1167376
X-APPLE-STRUCTURED-LOCATION;VALUE=URI;X-ADDRESS=Tri Cities Office 1923 N 20th Ave Pasco WA 99301 United States;X-APPLE-RADIUS=500;X-TITLE=1923 N 20th Ave:geo:-119.1167376,46.2463776
END:VEVENT
END:VCALENDAR