BEGIN:VCALENDAR
VERSION:2.0
PRODID:-//Community Minded Enterprises - ECPv6.15.20//NONSGML v1.0//EN
CALSCALE:GREGORIAN
METHOD:PUBLISH
X-ORIGINAL-URL:https://community-minded.org
X-WR-CALDESC:Events for Community Minded Enterprises
REFRESH-INTERVAL;VALUE=DURATION:PT1H
X-Robots-Tag:noindex
X-PUBLISHED-TTL:PT1H
BEGIN:VTIMEZONE
TZID:America/Los_Angeles
BEGIN:DAYLIGHT
TZOFFSETFROM:-0800
TZOFFSETTO:-0700
TZNAME:PDT
DTSTART:20230312T100000
END:DAYLIGHT
BEGIN:STANDARD
TZOFFSETFROM:-0700
TZOFFSETTO:-0800
TZNAME:PST
DTSTART:20231105T090000
END:STANDARD
BEGIN:DAYLIGHT
TZOFFSETFROM:-0800
TZOFFSETTO:-0700
TZNAME:PDT
DTSTART:20240310T100000
END:DAYLIGHT
BEGIN:STANDARD
TZOFFSETFROM:-0700
TZOFFSETTO:-0800
TZNAME:PST
DTSTART:20241103T090000
END:STANDARD
BEGIN:DAYLIGHT
TZOFFSETFROM:-0800
TZOFFSETTO:-0700
TZNAME:PDT
DTSTART:20250309T100000
END:DAYLIGHT
BEGIN:STANDARD
TZOFFSETFROM:-0700
TZOFFSETTO:-0800
TZNAME:PST
DTSTART:20251102T090000
END:STANDARD
END:VTIMEZONE
BEGIN:VEVENT
DTSTART;TZID=America/Los_Angeles:20240504T093000
DTEND;TZID=America/Los_Angeles:20240504T143000
DTSTAMP:20260421T073613
CREATED:20240321T204843Z
LAST-MODIFIED:20240503T163427Z
UID:10001040-1714815000-1714833000@community-minded.org
SUMMARY:Implementando el Currículo Emergente (en persona\, Pasco)
DESCRIPTION:Aptitudes principales: Crecimiento infantil y desarrollo\, Currículo y ambiente de aprendizaje\, Medición continua del progreso del niño \nEntrenedor: Yadira Escoto \nHoras de STARS: 4 \nDescripción: \nDurante esta capacitación\, los directores\, maestros y proveedores de cuidado infantil familiar aprenderán la historia y los conceptos básicos de la filosofía del currículo emergente y cómo implementarlo en su salón de clases y en todo su programa de aprendizaje temprano. Los participantes aprenderán sobre la historia del currículo emergente\, cómo este apoya la práctica apropiada para el desarrollo y las consideraciones prácticas para la implementación. \nNos gustaría que todos los que asisten a nuestras capacitaciones tengan la oportunidad de beneficiarse de su aprendizaje. Si necesita adaptaciones para participar plenamente\, comuníquese con professionaldevelopment@community-mind.org al menos una semana antes de la capacitación. \nPara ver las políticas de capacitación\, incluidas las políticas de llegada tardía y cancelación\, haga clic aquí.
URL:https://community-minded.org/event/implementando-el-curriculo-emergente-en-persona-pasco-2/
LOCATION:Tri Cities Office\, 1923 N 20th Ave\, Pasco\, WA\, 99301\, United States
CATEGORIES:Early Learning - Benton/Franklin County
ORGANIZER;CN="Child Care Aware of Eastern Washington":MAILTO:ProfessionalDevelopment@community-minded.org
GEO:46.2463776;-119.1167376
X-APPLE-STRUCTURED-LOCATION;VALUE=URI;X-ADDRESS=Tri Cities Office 1923 N 20th Ave Pasco WA 99301 United States;X-APPLE-RADIUS=500;X-TITLE=1923 N 20th Ave:geo:-119.1167376,46.2463776
END:VEVENT
BEGIN:VEVENT
DTSTART;TZID=America/Los_Angeles:20240525T080000
DTEND;TZID=America/Los_Angeles:20240525T100000
DTSTAMP:20260421T073613
CREATED:20240306T231927Z
LAST-MODIFIED:20240306T231927Z
UID:10001034-1716624000-1716631200@community-minded.org
SUMMARY:Listos para Kindergarten (en persona\, Pasco)
DESCRIPTION:Aptitudes principales: currículo y entornos de aprendizaje\, nivel 2 \nEntrenedor: Stefany Guevara \nHoras de STARS: 2 \nEl éxito en la vida comienza con el éxito en la escuela. El camino comienza antes de que el niño entre al aula. Los niños que comienzan el jardín de infantes al nivel de grado están en camino hacia el éxito a lo largo de los años escolares. Los primeros cinco años son un tiempo inigualable de preparación cognitiva para la escuela. Descubra cómo las experiencias divertidas y cotidianas ayudan a los niños a prepararse para el jardín de infantes y les aportan ideas para cerrar la brecha de aprendizaje en el jardín de infantes.
URL:https://community-minded.org/event/listos-para-kindergarten-en-persona-pasco/
LOCATION:Tri Cities Office\, 1923 N 20th Ave\, Pasco\, WA\, 99301\, United States
CATEGORIES:Early Learning - Benton/Franklin County
ORGANIZER;CN="Child Care Aware of Eastern Washington":MAILTO:ProfessionalDevelopment@community-minded.org
GEO:46.2463776;-119.1167376
X-APPLE-STRUCTURED-LOCATION;VALUE=URI;X-ADDRESS=Tri Cities Office 1923 N 20th Ave Pasco WA 99301 United States;X-APPLE-RADIUS=500;X-TITLE=1923 N 20th Ave:geo:-119.1167376,46.2463776
END:VEVENT
END:VCALENDAR