BEGIN:VCALENDAR
VERSION:2.0
PRODID:-//Community Minded Enterprises - ECPv6.15.20//NONSGML v1.0//EN
CALSCALE:GREGORIAN
METHOD:PUBLISH
X-WR-CALNAME:Community Minded Enterprises
X-ORIGINAL-URL:https://community-minded.org
X-WR-CALDESC:Events for Community Minded Enterprises
REFRESH-INTERVAL;VALUE=DURATION:PT1H
X-Robots-Tag:noindex
X-PUBLISHED-TTL:PT1H
BEGIN:VTIMEZONE
TZID:America/Los_Angeles
BEGIN:DAYLIGHT
TZOFFSETFROM:-0800
TZOFFSETTO:-0700
TZNAME:PDT
DTSTART:20220313T100000
END:DAYLIGHT
BEGIN:STANDARD
TZOFFSETFROM:-0700
TZOFFSETTO:-0800
TZNAME:PST
DTSTART:20221106T090000
END:STANDARD
BEGIN:DAYLIGHT
TZOFFSETFROM:-0800
TZOFFSETTO:-0700
TZNAME:PDT
DTSTART:20230312T100000
END:DAYLIGHT
BEGIN:STANDARD
TZOFFSETFROM:-0700
TZOFFSETTO:-0800
TZNAME:PST
DTSTART:20231105T090000
END:STANDARD
BEGIN:DAYLIGHT
TZOFFSETFROM:-0800
TZOFFSETTO:-0700
TZNAME:PDT
DTSTART:20240310T100000
END:DAYLIGHT
BEGIN:STANDARD
TZOFFSETFROM:-0700
TZOFFSETTO:-0800
TZNAME:PST
DTSTART:20241103T090000
END:STANDARD
END:VTIMEZONE
BEGIN:VEVENT
DTSTART;TZID=America/Los_Angeles:20230412T183000
DTEND;TZID=America/Los_Angeles:20230412T203000
DTSTAMP:20260422T072655
CREATED:20230222T234936Z
LAST-MODIFIED:20230224T201250Z
UID:10000970-1681324200-1681331400@community-minded.org
SUMMARY:Infantes 101: un enfoque socioemocional de las rutinas de cuidado (Zoom)
DESCRIPTION:Competencias básicas: currículo y entornos de aprendizaje\, interacciones\, nivel 1-3 \nEntrenedor: Lupita Curiel \nSTARS: 2 \nDescripción: \nÚnase a nosotros mientras discutimos los conceptos básicos del cuidado infantil. Hablaremos sobre formas de incorporar interacciones sensibles y receptivas en las rutinas del cuidado diario. Durante nuestro tiempo juntos\, utilizaremos un lente socioemocional para observar más de cerca el cambio de pañales\, las comidas\, y las siestas. Nos enfocaremos en formas de identificar\, promover\, y apoyar el desarrollo de los niños dentro de las transiciones y el tiempo de juego. Finalmente\, reflexionaremos sobre la comunicación familiar\, el prejuicio\, y la expulsión en el cuidado de los hijos. \nDebido a una financiación especial\, esta capacitación solo está disponible para personas de los siguientes condados: Benton\, Franklin\, Garfield\, Walla Walla\, Columbia\, Asotin \nHaga clic para registrarse.
URL:https://community-minded.org/event/infant-101-un-enfoque-socioemocional-de-las-rutinas-de-cuidado-zoom/
CATEGORIES:Early Learning - Benton/Franklin County
ORGANIZER;CN="Child Care Aware of Eastern Washington":MAILTO:ProfessionalDevelopment@community-minded.org
END:VEVENT
END:VCALENDAR