BEGIN:VCALENDAR
VERSION:2.0
PRODID:-//Community Minded Enterprises - ECPv6.15.20//NONSGML v1.0//EN
CALSCALE:GREGORIAN
METHOD:PUBLISH
X-WR-CALNAME:Community Minded Enterprises
X-ORIGINAL-URL:https://community-minded.org
X-WR-CALDESC:Events for Community Minded Enterprises
REFRESH-INTERVAL;VALUE=DURATION:PT1H
X-Robots-Tag:noindex
X-PUBLISHED-TTL:PT1H
BEGIN:VTIMEZONE
TZID:America/Los_Angeles
BEGIN:DAYLIGHT
TZOFFSETFROM:-0800
TZOFFSETTO:-0700
TZNAME:PDT
DTSTART:20220313T100000
END:DAYLIGHT
BEGIN:STANDARD
TZOFFSETFROM:-0700
TZOFFSETTO:-0800
TZNAME:PST
DTSTART:20221106T090000
END:STANDARD
BEGIN:DAYLIGHT
TZOFFSETFROM:-0800
TZOFFSETTO:-0700
TZNAME:PDT
DTSTART:20230312T100000
END:DAYLIGHT
BEGIN:STANDARD
TZOFFSETFROM:-0700
TZOFFSETTO:-0800
TZNAME:PST
DTSTART:20231105T090000
END:STANDARD
BEGIN:DAYLIGHT
TZOFFSETFROM:-0800
TZOFFSETTO:-0700
TZNAME:PDT
DTSTART:20240310T100000
END:DAYLIGHT
BEGIN:STANDARD
TZOFFSETFROM:-0700
TZOFFSETTO:-0800
TZNAME:PST
DTSTART:20241103T090000
END:STANDARD
END:VTIMEZONE
BEGIN:VEVENT
DTSTART;TZID=America/Los_Angeles:20230419T183000
DTEND;TZID=America/Los_Angeles:20230419T203000
DTSTAMP:20260422T091610
CREATED:20230222T234110Z
LAST-MODIFIED:20230224T194238Z
UID:10000969-1681929000-1681936200@community-minded.org
SUMMARY:Infant 101: A Social-emotional Approach to Care Routines (Zoom)
DESCRIPTION:Core Competencies: Child Growth and Development\, Interactions\, Level 1-3 \nTrainer: Rebekah Klemke \nSTARS: 2 \nDescription: \nPlease join us as we discuss infant care basics. We will talk about ways to incorporate sensitive\, responsive interactions into daily care routines. During our time together we will use a social emotion lens to take a closer look at diapering\, meal and nap times. We will focus on ways to identify\, promote\, and support children’s development within transitions and play time. Finally\, we will reflect on family communication\, bias and expulsion in childcare. \nDue to special funding\, this training is only available in Benton\, Franklin\, Walla Walla\, Columbia\, Garfield\, and Asotin counties. \nClick here to register.\n 
URL:https://community-minded.org/event/infant-101-a-social-emotional-approach-to-care-routines/
CATEGORIES:Early Learning - Benton/Franklin County
ORGANIZER;CN="Child Care Aware of Eastern Washington":MAILTO:ProfessionalDevelopment@community-minded.org
END:VEVENT
END:VCALENDAR