BEGIN:VCALENDAR
VERSION:2.0
PRODID:-//Community Minded Enterprises - ECPv6.15.20//NONSGML v1.0//EN
CALSCALE:GREGORIAN
METHOD:PUBLISH
X-ORIGINAL-URL:https://community-minded.org
X-WR-CALDESC:Events for Community Minded Enterprises
REFRESH-INTERVAL;VALUE=DURATION:PT1H
X-Robots-Tag:noindex
X-PUBLISHED-TTL:PT1H
BEGIN:VTIMEZONE
TZID:America/Los_Angeles
BEGIN:DAYLIGHT
TZOFFSETFROM:-0800
TZOFFSETTO:-0700
TZNAME:PDT
DTSTART:20220313T100000
END:DAYLIGHT
BEGIN:STANDARD
TZOFFSETFROM:-0700
TZOFFSETTO:-0800
TZNAME:PST
DTSTART:20221106T090000
END:STANDARD
BEGIN:DAYLIGHT
TZOFFSETFROM:-0800
TZOFFSETTO:-0700
TZNAME:PDT
DTSTART:20230312T100000
END:DAYLIGHT
BEGIN:STANDARD
TZOFFSETFROM:-0700
TZOFFSETTO:-0800
TZNAME:PST
DTSTART:20231105T090000
END:STANDARD
BEGIN:DAYLIGHT
TZOFFSETFROM:-0800
TZOFFSETTO:-0700
TZNAME:PDT
DTSTART:20240310T100000
END:DAYLIGHT
BEGIN:STANDARD
TZOFFSETFROM:-0700
TZOFFSETTO:-0800
TZNAME:PST
DTSTART:20241103T090000
END:STANDARD
END:VTIMEZONE
BEGIN:VEVENT
DTSTART;TZID=America/Los_Angeles:20230715T090000
DTEND;TZID=America/Los_Angeles:20230715T113000
DTSTAMP:20260422T023813
CREATED:20230612T200327Z
LAST-MODIFIED:20230713T182250Z
UID:10000991-1689411600-1689420600@community-minded.org
SUMMARY:Introducción a las Mejoras Prácticas: Lenguaje y Alfabetización (en persona\, Pasco)
DESCRIPTION:Aptitudes principales: currículo y ambientes de aprendizaje\, interacciones nivel 2 \nEntrenedor: Stefany Guevara \nHoras de STARS: 2.5 \nDescripción: \nEsta es una clase para los proveedores que son bastante nuevos en el campo del aprendizaje temprano\, o para aquellos que quieren repasar las mejores prácticas. En esta sesión se presentarán las mejores prácticas para participar en ricas interacciones que promuevan el desarrollo del lenguaje y la alfabetización. Exploraremos lo que la investigación dice sobre cómo aprenden los niños\, lo que los adultos pueden hacer para preparar el entorno para el éxito\, y cómo las interacciones entre adultos y niños pueden complementar el aprendizaje de los niños sin interrumpirlo. \nNos gustaría que todos los que asisten a nuestras capacitaciones tengan la oportunidad de beneficiarse de su aprendizaje. Si necesita adaptaciones para participar plenamente\, comuníquese con professionaldevelopment@community-mind.org al menos una semana antes de la capacitación. \nPara ver las políticas de capacitación\, incluidas las políticas de llegada tardía y cancelación\, haga clic aquí.
URL:https://community-minded.org/event/introduccion-a-las-mejoras-practicas-lenguaje-y-alfabetizacion-en-persona-pasco/
LOCATION:Tri Cities Office\, 1923 N 20th Ave\, Pasco\, WA\, 99301\, United States
CATEGORIES:Early Learning - Benton/Franklin County
ORGANIZER;CN="Child Care Aware of Eastern Washington":MAILTO:ProfessionalDevelopment@community-minded.org
GEO:46.2463776;-119.1167376
X-APPLE-STRUCTURED-LOCATION;VALUE=URI;X-ADDRESS=Tri Cities Office 1923 N 20th Ave Pasco WA 99301 United States;X-APPLE-RADIUS=500;X-TITLE=1923 N 20th Ave:geo:-119.1167376,46.2463776
END:VEVENT
END:VCALENDAR