BEGIN:VCALENDAR
VERSION:2.0
PRODID:-//Community Minded Enterprises - ECPv6.15.20//NONSGML v1.0//EN
CALSCALE:GREGORIAN
METHOD:PUBLISH
X-ORIGINAL-URL:https://community-minded.org
X-WR-CALDESC:Events for Community Minded Enterprises
REFRESH-INTERVAL;VALUE=DURATION:PT1H
X-Robots-Tag:noindex
X-PUBLISHED-TTL:PT1H
BEGIN:VTIMEZONE
TZID:America/Los_Angeles
BEGIN:DAYLIGHT
TZOFFSETFROM:-0800
TZOFFSETTO:-0700
TZNAME:PDT
DTSTART:20230312T100000
END:DAYLIGHT
BEGIN:STANDARD
TZOFFSETFROM:-0700
TZOFFSETTO:-0800
TZNAME:PST
DTSTART:20231105T090000
END:STANDARD
BEGIN:DAYLIGHT
TZOFFSETFROM:-0800
TZOFFSETTO:-0700
TZNAME:PDT
DTSTART:20240310T100000
END:DAYLIGHT
BEGIN:STANDARD
TZOFFSETFROM:-0700
TZOFFSETTO:-0800
TZNAME:PST
DTSTART:20241103T090000
END:STANDARD
BEGIN:DAYLIGHT
TZOFFSETFROM:-0800
TZOFFSETTO:-0700
TZNAME:PDT
DTSTART:20250309T100000
END:DAYLIGHT
BEGIN:STANDARD
TZOFFSETFROM:-0700
TZOFFSETTO:-0800
TZNAME:PST
DTSTART:20251102T090000
END:STANDARD
END:VTIMEZONE
BEGIN:VEVENT
DTSTART;TZID=America/Los_Angeles:20240314T190000
DTEND;TZID=America/Los_Angeles:20240314T203000
DTSTAMP:20260421T122933
CREATED:20240213T193012Z
LAST-MODIFIED:20240213T193012Z
UID:10001025-1710442800-1710448200@community-minded.org
SUMMARY:Baby Doll Circle Time (in-person\, Pasco)
DESCRIPTION:Core Competencies: Interactions\, Level 2 \nTrainer: Christena Young \nSTARS: 1.5 \nDescription: \nBaby Doll Circle Time is an infant/toddler curriculum that helps caregivers lead young children and their baby dolls in fun\, engaging activities that fall into the categories of Peek-a-boo\, Body Parts\, Booboos\, I Love You Rituals\, Stop and Go\, and Emotions. These activities promote the secure attachment that is vital to children’s lifelong success. \nYou should work in one of the following counties: Benton\, Franklin\, Walla Walla\, Columbia\, Garfield\, or Asotin.
URL:https://community-minded.org/event/baby-doll-circle-time-in-person-pasco-2/
LOCATION:Tri Cities Office\, 1923 N 20th Ave\, Pasco\, WA\, 99301\, United States
CATEGORIES:Early Learning - Benton/Franklin County
ORGANIZER;CN="Child Care Aware of Eastern Washington":MAILTO:ProfessionalDevelopment@community-minded.org
GEO:46.2463776;-119.1167376
X-APPLE-STRUCTURED-LOCATION;VALUE=URI;X-ADDRESS=Tri Cities Office 1923 N 20th Ave Pasco WA 99301 United States;X-APPLE-RADIUS=500;X-TITLE=1923 N 20th Ave:geo:-119.1167376,46.2463776
END:VEVENT
END:VCALENDAR