BEGIN:VCALENDAR
VERSION:2.0
PRODID:-//Community Minded Enterprises - ECPv6.15.20//NONSGML v1.0//EN
CALSCALE:GREGORIAN
METHOD:PUBLISH
X-WR-CALNAME:Community Minded Enterprises
X-ORIGINAL-URL:https://community-minded.org
X-WR-CALDESC:Events for Community Minded Enterprises
REFRESH-INTERVAL;VALUE=DURATION:PT1H
X-Robots-Tag:noindex
X-PUBLISHED-TTL:PT1H
BEGIN:VTIMEZONE
TZID:America/Los_Angeles
BEGIN:DAYLIGHT
TZOFFSETFROM:-0800
TZOFFSETTO:-0700
TZNAME:PDT
DTSTART:20230312T100000
END:DAYLIGHT
BEGIN:STANDARD
TZOFFSETFROM:-0700
TZOFFSETTO:-0800
TZNAME:PST
DTSTART:20231105T090000
END:STANDARD
BEGIN:DAYLIGHT
TZOFFSETFROM:-0800
TZOFFSETTO:-0700
TZNAME:PDT
DTSTART:20240310T100000
END:DAYLIGHT
BEGIN:STANDARD
TZOFFSETFROM:-0700
TZOFFSETTO:-0800
TZNAME:PST
DTSTART:20241103T090000
END:STANDARD
BEGIN:DAYLIGHT
TZOFFSETFROM:-0800
TZOFFSETTO:-0700
TZNAME:PDT
DTSTART:20250309T100000
END:DAYLIGHT
BEGIN:STANDARD
TZOFFSETFROM:-0700
TZOFFSETTO:-0800
TZNAME:PST
DTSTART:20251102T090000
END:STANDARD
END:VTIMEZONE
BEGIN:VEVENT
DTSTART;TZID=America/Los_Angeles:20240321T183000
DTEND;TZID=America/Los_Angeles:20240321T203000
DTSTAMP:20260421T122536
CREATED:20240125T205957Z
LAST-MODIFIED:20240321T190152Z
UID:10001020-1711045800-1711053000@community-minded.org
SUMMARY:Cómo involucrar a las familias en los programas de cuidado infantil (en persona\, Pasco)
DESCRIPTION:Aptitudes principales: desarrollo profesional y liderazgo\, nivel 4-5 \nEntrenedor: Stefany Guevara \nHoras de STARS: 6 \nFechas: el 21 y 23 de marza \nDescripción: \nEl trabajo de un líder del cuidado infantil es complejo y una de sus funciones es involucrar a las familias. Durante la pandemia\, los programas y las familias se distanciaron unos de otros. ¿Cómo volvemos a comprometernos ahora? ¿Cómo invitamos a la participación de los padres y al mismo tiempo compartimos el poder de una manera realista? ¿Cómo podríamos mejorar la comunicación bidireccional\, particularmente en torno a temas cargados de emociones? Analicemos estos temas y veamos lo que dicen los líderes nacionales sobre la conexión con las familias. \nTiene que asistir ambos dias. \nNos gustaría que todos los que asisten a nuestras capacitaciones tengan la oportunidad de beneficiarse de su aprendizaje. Si necesita adaptaciones para participar plenamente\, comuníquese con professionaldevelopment@community-mind.org al menos una semana antes de la capacitación. \nPara ver las políticas de capacitación\, incluidas las políticas de llegada tardía y cancelación\, haga clic aquí.
URL:https://community-minded.org/event/familias-en-los-programas-de-cuidado-infantil-en-persona-pasco/
LOCATION:Tri Cities Office\, 1923 N 20th Ave\, Pasco\, WA\, 99301\, United States
CATEGORIES:Early Learning - Benton/Franklin County
ORGANIZER;CN="Child Care Aware of Eastern Washington":MAILTO:ProfessionalDevelopment@community-minded.org
GEO:46.2463776;-119.1167376
X-APPLE-STRUCTURED-LOCATION;VALUE=URI;X-ADDRESS=Tri Cities Office 1923 N 20th Ave Pasco WA 99301 United States;X-APPLE-RADIUS=500;X-TITLE=1923 N 20th Ave:geo:-119.1167376,46.2463776
END:VEVENT
END:VCALENDAR