BEGIN:VCALENDAR
VERSION:2.0
PRODID:-//Community Minded Enterprises - ECPv6.15.20//NONSGML v1.0//EN
CALSCALE:GREGORIAN
METHOD:PUBLISH
X-WR-CALNAME:Community Minded Enterprises
X-ORIGINAL-URL:https://community-minded.org
X-WR-CALDESC:Events for Community Minded Enterprises
REFRESH-INTERVAL;VALUE=DURATION:PT1H
X-Robots-Tag:noindex
X-PUBLISHED-TTL:PT1H
BEGIN:VTIMEZONE
TZID:America/Los_Angeles
BEGIN:DAYLIGHT
TZOFFSETFROM:-0800
TZOFFSETTO:-0700
TZNAME:PDT
DTSTART:20230312T100000
END:DAYLIGHT
BEGIN:STANDARD
TZOFFSETFROM:-0700
TZOFFSETTO:-0800
TZNAME:PST
DTSTART:20231105T090000
END:STANDARD
BEGIN:DAYLIGHT
TZOFFSETFROM:-0800
TZOFFSETTO:-0700
TZNAME:PDT
DTSTART:20240310T100000
END:DAYLIGHT
BEGIN:STANDARD
TZOFFSETFROM:-0700
TZOFFSETTO:-0800
TZNAME:PST
DTSTART:20241103T090000
END:STANDARD
BEGIN:DAYLIGHT
TZOFFSETFROM:-0800
TZOFFSETTO:-0700
TZNAME:PDT
DTSTART:20250309T100000
END:DAYLIGHT
BEGIN:STANDARD
TZOFFSETFROM:-0700
TZOFFSETTO:-0800
TZNAME:PST
DTSTART:20251102T090000
END:STANDARD
END:VTIMEZONE
BEGIN:VEVENT
DTSTART;TZID=America/Los_Angeles:20240720T080000
DTEND;TZID=America/Los_Angeles:20240720T120000
DTSTAMP:20260421T055202
CREATED:20240614T164521Z
LAST-MODIFIED:20240614T164521Z
UID:10001044-1721462400-1721476800@community-minded.org
SUMMARY:Abriendo Puertas (en persona\, Pasco)
DESCRIPTION:Aptitudes principales: desarrollo profesional y liderazgo\, nivel 3-4 \nEntrenedor: Stefany Guevara \nHoras de STARS: 20 \nAbriendo Puertas desarrolla habilidades y conocimientos de liderazgo en los padres para promover el bienestar familiar y resultados positivos para todos los niños. A lo largo de las 5 semanas\, aprenderá sobre la preparación escolar\, el desarrollo del cerebro\, la alfabetización temprana\, las matemáticas tempranas\, el bilingüismo\, el uso positivo de la tecnología\, el establecimiento de metas y el compromiso cívico. \nEsta capacitación se ofrecerá tanto a los proveedores de cuidado infantil como a las familias. Cuando se registre\, invite a una o dos familias de su programa a registrarse con usted. \nPuede solicitar el reembolso MERIT para ayudar con el costo después de la primera sesión.
URL:https://community-minded.org/event/abriendo-puertas-en-persona-pasco/
LOCATION:Tri Cities Office\, 1923 N 20th Ave\, Pasco\, WA\, 99301\, United States
CATEGORIES:Early Learning - Benton/Franklin County
ORGANIZER;CN="Child Care Aware of Eastern Washington":MAILTO:ProfessionalDevelopment@community-minded.org
GEO:46.2463776;-119.1167376
X-APPLE-STRUCTURED-LOCATION;VALUE=URI;X-ADDRESS=Tri Cities Office 1923 N 20th Ave Pasco WA 99301 United States;X-APPLE-RADIUS=500;X-TITLE=1923 N 20th Ave:geo:-119.1167376,46.2463776
END:VEVENT
END:VCALENDAR