BEGIN:VCALENDAR
VERSION:2.0
PRODID:-//Community Minded Enterprises - ECPv6.15.20//NONSGML v1.0//EN
CALSCALE:GREGORIAN
METHOD:PUBLISH
X-WR-CALNAME:Community Minded Enterprises
X-ORIGINAL-URL:https://community-minded.org
X-WR-CALDESC:Events for Community Minded Enterprises
REFRESH-INTERVAL;VALUE=DURATION:PT1H
X-Robots-Tag:noindex
X-PUBLISHED-TTL:PT1H
BEGIN:VTIMEZONE
TZID:America/Los_Angeles
BEGIN:DAYLIGHT
TZOFFSETFROM:-0800
TZOFFSETTO:-0700
TZNAME:PDT
DTSTART:20230312T100000
END:DAYLIGHT
BEGIN:STANDARD
TZOFFSETFROM:-0700
TZOFFSETTO:-0800
TZNAME:PST
DTSTART:20231105T090000
END:STANDARD
BEGIN:DAYLIGHT
TZOFFSETFROM:-0800
TZOFFSETTO:-0700
TZNAME:PDT
DTSTART:20240310T100000
END:DAYLIGHT
BEGIN:STANDARD
TZOFFSETFROM:-0700
TZOFFSETTO:-0800
TZNAME:PST
DTSTART:20241103T090000
END:STANDARD
BEGIN:DAYLIGHT
TZOFFSETFROM:-0800
TZOFFSETTO:-0700
TZNAME:PDT
DTSTART:20250309T100000
END:DAYLIGHT
BEGIN:STANDARD
TZOFFSETFROM:-0700
TZOFFSETTO:-0800
TZNAME:PST
DTSTART:20251102T090000
END:STANDARD
END:VTIMEZONE
BEGIN:VEVENT
DTSTART;TZID=America/Los_Angeles:20241019T090000
DTEND;TZID=America/Los_Angeles:20241019T130000
DTSTAMP:20260421T012245
CREATED:20240826T222733Z
LAST-MODIFIED:20240927T190238Z
UID:10001048-1729328400-1729342800@community-minded.org
SUMMARY:Módulos de Cuidado Informado por el Trauma / Avanzado
DESCRIPTION:Entra en un mundo en el que la compasión se une con la ciencia y en el que tu impacto en las personas a las que sirves se profundiza con cada interacción. Descubre cómo comprendiendo el trauma puede transformar tu enfoque\, en crear una base de confianza\, resiliencia y sanación. \nEsto es más que un simple curso\, es un viaje para convertirte en un cuidador más empático y eficaz. \n¿Estás listo para ampliar tus conocimientos sobre el cuidado informado por el trauma? \nJuntos exploraremos: \n\nEl impacto de las relaciones en la neurobiología.\nLa prevalencia y los tipos de trauma.\nEstrategias para integrar prácticas informadas por el trauma con niños\, familias y personal.\nAutocuidado y reflexión para apoyar la regulación y la resiliencia.\nAutocuidado y reflexión para apoyar la regulación y la resiliencia.\n\nLo mejor de todo es que esta capacitación es completamente gratuita. \nEl curso incluye cinco días de sesiones presenciales en Pasco y de tres a cuatro horas de trabajo independiente entre sesiones. Es necesario asistir a todas las sesiones para recibir horas STARS y no se otorgará crédito parcial. El número de plazas es limitado\, así que por favor\, inscríbete solo si estás comprometido a completar toda la serie. \n\nSabado\, 19 de octubre de 2024 9:00 AM -1:00 PM (M1S1)\nSabado\, 26 de octubre de 2024 9:00 AM – 2:00 PM (M1S2 / M2S1)\nSabado\, 2 de noviembre de 2024 9:00 AM – 2:00 PM (M2S2 / M3S1)\nSabado\, 9 de noviembre de 2024 9:00 AM – 2:00 PM (M3S2 / M4S1)\nSabado\, 16 de noviembre de 2024 9:00 AM -1:00 PM (M4S2)\n\nLEVEL4-5: Recibe 27 horas STARS y mejorará tu capacidad para brindar una atención individualizada y receptiva.
URL:https://community-minded.org/event/modulos-de-cuidado-infomado-por-el-trauma-avanzado/
LOCATION:Commnity-Minded Enterprises – Pasco\, 1923 N 20th\, Pasco\, WA\, 99301\, United States
CATEGORIES:Early Learning - Benton/Franklin County
END:VEVENT
END:VCALENDAR