BEGIN:VCALENDAR
VERSION:2.0
PRODID:-//Community Minded Enterprises - ECPv6.15.20//NONSGML v1.0//EN
CALSCALE:GREGORIAN
METHOD:PUBLISH
X-WR-CALNAME:Community Minded Enterprises
X-ORIGINAL-URL:https://community-minded.org
X-WR-CALDESC:Events for Community Minded Enterprises
REFRESH-INTERVAL;VALUE=DURATION:PT1H
X-Robots-Tag:noindex
X-PUBLISHED-TTL:PT1H
BEGIN:VTIMEZONE
TZID:UTC
BEGIN:STANDARD
TZOFFSETFROM:+0000
TZOFFSETTO:+0000
TZNAME:UTC
DTSTART:20180101T000000
END:STANDARD
END:VTIMEZONE
BEGIN:VEVENT
DTSTART;TZID=UTC:20200206T183000
DTEND;TZID=UTC:20200206T203000
DTSTAMP:20260420T003019
CREATED:20191205T061736Z
LAST-MODIFIED:20191205T061736Z
UID:10000788-1581013800-1581021000@community-minded.org
SUMMARY:Understanding Toddlers' "Why" for Behavior- Part 3
DESCRIPTION:This training is for those who work primarily with toddlers ages 18-35 months. It is a continuation of a series\, but each session can be taken alone as well. \nIn this training you will review the domains of child growth and development to articulate what drives child behavior and what caregivers can do to understand\, support\, and provide positive behavior guidance to build strong social and emotional relationships with toddlers ages 18 to 35 months of age.
URL:https://community-minded.org/event/understanding-toddlers-why-for-behavior-part-3/
LOCATION:ESD 123\, 3924 W Court Street\, Pasco\, WA\, 99301\, United States
CATEGORIES:Early Learning - Benton/Franklin County
ORGANIZER;CN="Child Care Aware of Eastern Washington":MAILTO:ProfessionalDevelopment@community-minded.org
GEO:46.2413265;-119.1431397
X-APPLE-STRUCTURED-LOCATION;VALUE=URI;X-ADDRESS=ESD 123 3924 W Court Street Pasco WA 99301 United States;X-APPLE-RADIUS=500;X-TITLE=3924 W Court Street:geo:-119.1431397,46.2413265
END:VEVENT
BEGIN:VEVENT
DTSTART;TZID=UTC:20200123T183000
DTEND;TZID=UTC:20200123T203000
DTSTAMP:20260420T003019
CREATED:20191205T061024Z
LAST-MODIFIED:20191205T061024Z
UID:10000787-1579804200-1579811400@community-minded.org
SUMMARY:Understanding Toddlers' "Why" for Behavior- Part 2
DESCRIPTION:This training is for those who work primarily with toddlers ages 18-35 months. It is a continuation of a series\, but each session can be taken alone as well. \nIn this training you will review the domains of child growth and development to articulate what drives child behavior and what caregivers can do to understand\, support\, and provide positive behavior guidance to build strong social and emotional relationships with toddlers ages 18 to 35 months of age.
URL:https://community-minded.org/event/understanding-toddlers-why-for-behavior-part-2/
LOCATION:Tri Cities Office\, 1923 N 20th Ave\, Pasco\, WA\, 99301\, United States
CATEGORIES:Early Learning - Benton/Franklin County
ORGANIZER;CN="Child Care Aware of Eastern Washington":MAILTO:ProfessionalDevelopment@community-minded.org
GEO:46.2463776;-119.1167376
X-APPLE-STRUCTURED-LOCATION;VALUE=URI;X-ADDRESS=Tri Cities Office 1923 N 20th Ave Pasco WA 99301 United States;X-APPLE-RADIUS=500;X-TITLE=1923 N 20th Ave:geo:-119.1167376,46.2463776
END:VEVENT
BEGIN:VEVENT
DTSTART;TZID=UTC:20191212T183000
DTEND;TZID=UTC:20191212T200000
DTSTAMP:20260420T003019
CREATED:20190830T003701Z
LAST-MODIFIED:20190830T003701Z
UID:10000767-1576175400-1576180800@community-minded.org
SUMMARY:Observing Children: How to do it Well
DESCRIPTION:It is common for teachers to regard observing children as an add-on or distraction from the real work of teaching.  In fact\, observing can be a powerful\, integral part of effective teaching.  We will sharpen our observation skills and discuss how to build observing into our everyday routines. You will earn 1.5 STARS hours.
URL:https://community-minded.org/event/observing-children-how-to-do-it-well/
LOCATION:Tri Cities Office\, 1923 N 20th Ave\, Pasco\, WA\, 99301\, United States
CATEGORIES:Early Learning - Benton/Franklin County
ORGANIZER;CN="Child Care Aware of Eastern Washington":MAILTO:ProfessionalDevelopment@community-minded.org
GEO:46.2463776;-119.1167376
X-APPLE-STRUCTURED-LOCATION;VALUE=URI;X-ADDRESS=Tri Cities Office 1923 N 20th Ave Pasco WA 99301 United States;X-APPLE-RADIUS=500;X-TITLE=1923 N 20th Ave:geo:-119.1167376,46.2463776
END:VEVENT
BEGIN:VEVENT
DTSTART;TZID=UTC:20191211T190000
DTEND;TZID=UTC:20191211T210000
DTSTAMP:20260420T003019
CREATED:20190919T013118Z
LAST-MODIFIED:20190919T013118Z
UID:10000775-1576090800-1576098000@community-minded.org
SUMMARY:Electronic Attendance Learning Lab
DESCRIPTION:This is for people who have already taken the training and have received their account information from DCYF. It is an opportunity to come together\, problem-solve\, and get answers to your questions.
URL:https://community-minded.org/event/electronic-attendance-learning-lab-2/
LOCATION:Tri Cities Office\, 1923 N 20th Ave\, Pasco\, WA\, 99301\, United States
CATEGORIES:Early Learning - Benton/Franklin County
ORGANIZER;CN="Child Care Aware of Eastern Washington":MAILTO:ProfessionalDevelopment@community-minded.org
GEO:46.2463776;-119.1167376
X-APPLE-STRUCTURED-LOCATION;VALUE=URI;X-ADDRESS=Tri Cities Office 1923 N 20th Ave Pasco WA 99301 United States;X-APPLE-RADIUS=500;X-TITLE=1923 N 20th Ave:geo:-119.1167376,46.2463776
END:VEVENT
BEGIN:VEVENT
DTSTART;TZID=UTC:20191211T170000
DTEND;TZID=UTC:20191211T190000
DTSTAMP:20260420T003019
CREATED:20190919T012903Z
LAST-MODIFIED:20190919T012903Z
UID:10000774-1576083600-1576090800@community-minded.org
SUMMARY:Electronic Attendance Training
DESCRIPTION:This training is for those who are new to the electronic attendance system\, Kinder Connect. Please register below.
URL:https://community-minded.org/event/electronic-attendance-training-3/
LOCATION:Tri Cities Office\, 1923 N 20th Ave\, Pasco\, WA\, 99301\, United States
CATEGORIES:Early Learning - Benton/Franklin County
ORGANIZER;CN="Child Care Aware of Eastern Washington":MAILTO:ProfessionalDevelopment@community-minded.org
GEO:46.2463776;-119.1167376
X-APPLE-STRUCTURED-LOCATION;VALUE=URI;X-ADDRESS=Tri Cities Office 1923 N 20th Ave Pasco WA 99301 United States;X-APPLE-RADIUS=500;X-TITLE=1923 N 20th Ave:geo:-119.1167376,46.2463776
END:VEVENT
BEGIN:VEVENT
DTSTART;TZID=UTC:20191204T180000
DTEND;TZID=UTC:20191204T200000
DTSTAMP:20260420T003019
CREATED:20190829T233323Z
LAST-MODIFIED:20190829T233323Z
UID:10000764-1575482400-1575489600@community-minded.org
SUMMARY:Growing up Wild
DESCRIPTION:Just because the weather is changing doesn’t mean that you can’t use nature to help early learners explore questions and solutions using developmentally appropriate practices. Learn how to  help early learners connect with their natural world and develop skills in literacy\, math\, science\, art\, physical development\, and social/emotional development. You will earn 2 STARS hours.
URL:https://community-minded.org/event/growing-up-wild-2/
LOCATION:Tri Cities Office\, 1923 N 20th Ave\, Pasco\, WA\, 99301\, United States
CATEGORIES:Early Learning - Benton/Franklin County
ORGANIZER;CN="Child Care Aware of Eastern Washington":MAILTO:ProfessionalDevelopment@community-minded.org
GEO:46.2463776;-119.1167376
X-APPLE-STRUCTURED-LOCATION;VALUE=URI;X-ADDRESS=Tri Cities Office 1923 N 20th Ave Pasco WA 99301 United States;X-APPLE-RADIUS=500;X-TITLE=1923 N 20th Ave:geo:-119.1167376,46.2463776
END:VEVENT
BEGIN:VEVENT
DTSTART;TZID=UTC:20191119T170000
DTEND;TZID=UTC:20191119T190000
DTSTAMP:20260420T003019
CREATED:20190919T012656Z
LAST-MODIFIED:20190919T012656Z
UID:10000773-1574182800-1574190000@community-minded.org
SUMMARY:Electronic Attendance Training
DESCRIPTION:Capacítese y comience a usar un sistema electrónico de asistencia Kinder Connect. \n  \nLearn to use the electronic attendance system Kinder Connect.
URL:https://community-minded.org/event/entrenamiento-del-sistema-de-asistencia-electronica/
LOCATION:Tri Cities Office\, 1923 N 20th Ave\, Pasco\, WA\, 99301\, United States
CATEGORIES:Early Learning - Benton/Franklin County
ORGANIZER;CN="Child Care Aware of Eastern Washington":MAILTO:ProfessionalDevelopment@community-minded.org
GEO:46.2463776;-119.1167376
X-APPLE-STRUCTURED-LOCATION;VALUE=URI;X-ADDRESS=Tri Cities Office 1923 N 20th Ave Pasco WA 99301 United States;X-APPLE-RADIUS=500;X-TITLE=1923 N 20th Ave:geo:-119.1167376,46.2463776
END:VEVENT
BEGIN:VEVENT
DTSTART;TZID=UTC:20191107T181500
DTEND;TZID=UTC:20191107T201500
DTSTAMP:20260420T003019
CREATED:20190829T234726Z
LAST-MODIFIED:20190829T234726Z
UID:10000765-1573150500-1573157700@community-minded.org
SUMMARY:Introduction to Flip-It Behavior Management Strategy
DESCRIPTION:Flip It is a social emotional strategy to help young children learn about their feelings\, gain self-control and reduce challenging behaviors.  This technique is useful for all adults who interact with young children. Flip It can be used in targeted interventions for a child displaying specific behavioral concerns\, or during every-day minor challenges and conflicts. \nYou will earn two STARS hours.
URL:https://community-minded.org/event/introduction-to-flip-it-behavior-management-strategy/
LOCATION:Tri Cities Office\, 1923 N 20th Ave\, Pasco\, WA\, 99301\, United States
CATEGORIES:Early Learning - Benton/Franklin County
ORGANIZER;CN="Child Care Aware of Eastern Washington":MAILTO:ProfessionalDevelopment@community-minded.org
GEO:46.2463776;-119.1167376
X-APPLE-STRUCTURED-LOCATION;VALUE=URI;X-ADDRESS=Tri Cities Office 1923 N 20th Ave Pasco WA 99301 United States;X-APPLE-RADIUS=500;X-TITLE=1923 N 20th Ave:geo:-119.1167376,46.2463776
END:VEVENT
BEGIN:VEVENT
DTSTART;TZID=UTC:20191017T090000
DTEND;TZID=UTC:20191017T120000
DTSTAMP:20260420T003019
CREATED:20190821T031215Z
LAST-MODIFIED:20190821T031215Z
UID:10000758-1571302800-1571313600@community-minded.org
SUMMARY:Leadership in Action
DESCRIPTION:This is great for the leaders in your programs! \nThis is a 3-part  session that explores the concept of leadership in the context of Early Childhood Education. Come learn to create and sustain a compelling vision that can transform your center into an engaging learning community. We’ll look at the multi-faceted role of the director and the skills\, traits and competencies needed to nurture leadership at all levels of an organization. \nYou will receive a book and 7 STARS hours. Please attend all three days. \nOctober 17 9am-12pm \nNovember 14 9am-12pm \nDecember 6 10-11am Video Conference
URL:https://community-minded.org/event/leadership-in-action/
LOCATION:Tri Cities Office\, 1923 N 20th Ave\, Pasco\, WA\, 99301\, United States
CATEGORIES:Early Learning - Benton/Franklin County
ORGANIZER;CN="Child Care Aware of Eastern Washington":MAILTO:ProfessionalDevelopment@community-minded.org
GEO:46.2463776;-119.1167376
X-APPLE-STRUCTURED-LOCATION;VALUE=URI;X-ADDRESS=Tri Cities Office 1923 N 20th Ave Pasco WA 99301 United States;X-APPLE-RADIUS=500;X-TITLE=1923 N 20th Ave:geo:-119.1167376,46.2463776
END:VEVENT
BEGIN:VEVENT
DTSTART;TZID=UTC:20191016T183000
DTEND;TZID=UTC:20191016T203000
DTSTAMP:20260420T003019
CREATED:20190830T000817Z
LAST-MODIFIED:20190830T000817Z
UID:10000766-1571250600-1571257800@community-minded.org
SUMMARY:Understanding Toddlers' Why for Behavior
DESCRIPTION:This training discusses the domains of child growth and development to articulate what drives child behavior. You will also learn what caregivers can do to understand\, support\, and provide positive behavior guidance to build strong social and emotional relationships with children ages 13 to 23 months. You will earn 2 STARS hours.
URL:https://community-minded.org/event/understanding-toddlers-why-for-behavior/
LOCATION:Tri Cities Office\, 1923 N 20th Ave\, Pasco\, WA\, 99301\, United States
CATEGORIES:Early Learning - Benton/Franklin County
ORGANIZER;CN="Child Care Aware of Eastern Washington":MAILTO:ProfessionalDevelopment@community-minded.org
GEO:46.2463776;-119.1167376
X-APPLE-STRUCTURED-LOCATION;VALUE=URI;X-ADDRESS=Tri Cities Office 1923 N 20th Ave Pasco WA 99301 United States;X-APPLE-RADIUS=500;X-TITLE=1923 N 20th Ave:geo:-119.1167376,46.2463776
END:VEVENT
BEGIN:VEVENT
DTSTART;TZID=UTC:20191010T183000
DTEND;TZID=UTC:20191010T203000
DTSTAMP:20260420T003019
CREATED:20190829T230938Z
LAST-MODIFIED:20190829T230938Z
UID:10000763-1570732200-1570739400@community-minded.org
SUMMARY:Learning through Play
DESCRIPTION:Play is what children want to do and what they choose to do when given the freedom\, independence\, time and space to determine their own behavior. Play is how children learn about their world. Play is a child’s right and is the essence of childhood. Play is not a luxury; it is a necessity. Learn why play is crucial to a child’s development and ways you can help support their learning. You will earn 2 STARS hours.
URL:https://community-minded.org/event/learning-through-play/
LOCATION:Tri Cities Office\, 1923 N 20th Ave\, Pasco\, WA\, 99301\, United States
CATEGORIES:Early Learning - Benton/Franklin County
ORGANIZER;CN="Child Care Aware of Eastern Washington":MAILTO:ProfessionalDevelopment@community-minded.org
GEO:46.2463776;-119.1167376
X-APPLE-STRUCTURED-LOCATION;VALUE=URI;X-ADDRESS=Tri Cities Office 1923 N 20th Ave Pasco WA 99301 United States;X-APPLE-RADIUS=500;X-TITLE=1923 N 20th Ave:geo:-119.1167376,46.2463776
END:VEVENT
END:VCALENDAR