BEGIN:VCALENDAR
VERSION:2.0
PRODID:-//Community Minded Enterprises - ECPv6.15.20//NONSGML v1.0//EN
CALSCALE:GREGORIAN
METHOD:PUBLISH
X-WR-CALNAME:Community Minded Enterprises
X-ORIGINAL-URL:https://community-minded.org
X-WR-CALDESC:Events for Community Minded Enterprises
REFRESH-INTERVAL;VALUE=DURATION:PT1H
X-Robots-Tag:noindex
X-PUBLISHED-TTL:PT1H
BEGIN:VTIMEZONE
TZID:America/Los_Angeles
BEGIN:DAYLIGHT
TZOFFSETFROM:-0800
TZOFFSETTO:-0700
TZNAME:PDT
DTSTART:20210314T100000
END:DAYLIGHT
BEGIN:STANDARD
TZOFFSETFROM:-0700
TZOFFSETTO:-0800
TZNAME:PST
DTSTART:20211107T090000
END:STANDARD
BEGIN:DAYLIGHT
TZOFFSETFROM:-0800
TZOFFSETTO:-0700
TZNAME:PDT
DTSTART:20220313T100000
END:DAYLIGHT
BEGIN:STANDARD
TZOFFSETFROM:-0700
TZOFFSETTO:-0800
TZNAME:PST
DTSTART:20221106T090000
END:STANDARD
BEGIN:DAYLIGHT
TZOFFSETFROM:-0800
TZOFFSETTO:-0700
TZNAME:PDT
DTSTART:20230312T100000
END:DAYLIGHT
BEGIN:STANDARD
TZOFFSETFROM:-0700
TZOFFSETTO:-0800
TZNAME:PST
DTSTART:20231105T090000
END:STANDARD
END:VTIMEZONE
BEGIN:VEVENT
DTSTART;TZID=America/Los_Angeles:20220413T180000
DTEND;TZID=America/Los_Angeles:20220413T203000
DTSTAMP:20260423T112601
CREATED:20220221T192013Z
LAST-MODIFIED:20220221T195629Z
UID:10000924-1649872800-1649881800@community-minded.org
SUMMARY:Enhancing Quality Early Learning (EQEL) – Year 1- First 10 Hours
DESCRIPTION:The EQEL training is developed by DCYF in partnership with Cultivate Learning and is made available at no cost by DCYF. According to the new WAC effective 8/1/19\, after completing the 30-hour Child Care Basics\, new (hired on or after 8/1/19) directors\, assistant directors\, program supervisors\, family home owners\, lead teachers\, and assistant teachers take this 10-hour class the following year and another 10 hours the year after that. \nThis class will be held live and online\, 4/13\, 4/20\, 4/27\, and 5/4 (You must attend all sessions). It will address culturally responsive practices\, brain building\, executive function\, and responsive caregiving. Registering for the first part registers you in all four parts. \nThis class is only open to teachers who are required by WAC to take it. If you have questions about whether you are required to attend this class\, please visit the DCYF website here. \n  \nA few days before the training\, you will receive an email with the link to join the Zoom. This is separate from the automatically-generated email you receive right after registration. If you cannot find the email with the link\, check your junk folder. Sometimes they are sent there. \nWe would like everyone who attends our trainings to have the opportunity to benefit from their learning. If you require accommodations to fully participate\, please contact professionaldevelopment@community-minded.org at least one week in advance of the training.\nTo view training policies\, including the late arrival and cancellation policies\, please click here.
URL:https://community-minded.org/event/enhancing-quality-early-learning-eqel-year-1-first-10-hours-2/
LOCATION:WA
CATEGORIES:Early Learning- Online
ORGANIZER;CN="Child Care Aware of Eastern Washington":MAILTO:ProfessionalDevelopment@community-minded.org
END:VEVENT
BEGIN:VEVENT
DTSTART;TZID=America/Los_Angeles:20220421T183000
DTEND;TZID=America/Los_Angeles:20220421T200000
DTSTAMP:20260423T112601
CREATED:20220221T194325Z
LAST-MODIFIED:20220420T165218Z
UID:10000925-1650565800-1650571200@community-minded.org
SUMMARY:Advocacy 101
DESCRIPTION:Core Competences: Professional Development and Leadership\, Level 2 \nTrainer: Alex Hanel\, Child Care Aware of Washington \nDescription: \nThis training will explore advocacy – what it is\, how to do it\, and all the details in between. Whether you are a childcare provider\, parent\, business owner\, or community member\, you will learn how your voice matters and can make a huge impact on children and families. \n\nOpen to child care providers\, parents\, scholars\, and any interested advocates\n90-minute online zoom training\nLearn what advocacy is\, the basics of state and federal government\, and how you can help shape better child care policies for everyone!\n\n  \nA few days before the training\, you will receive an email with the link to join the Zoom. This is separate from the automatically-generated email you receive right after registration. If you cannot find the email with the link\, check your junk folder. Sometimes they are sent there. \nWe would like everyone who attends our trainings to have the opportunity to benefit from their learning. If you require accommodations to fully participate\, please contact professionaldevelopment@community-minded.org at least one week in advance of the training.\nTo view training policies\, including the late arrival and cancellation policies\, please click here.
URL:https://community-minded.org/event/advocacy-101/
LOCATION:WA
CATEGORIES:Early Learning- Online
ORGANIZER;CN="Child Care Aware of Eastern Washington":MAILTO:ProfessionalDevelopment@community-minded.org
END:VEVENT
BEGIN:VEVENT
DTSTART;TZID=America/Los_Angeles:20220423T090000
DTEND;TZID=America/Los_Angeles:20220423T120000
DTSTAMP:20260423T112601
CREATED:20220315T174832Z
LAST-MODIFIED:20220412T192712Z
UID:10000936-1650704400-1650715200@community-minded.org
SUMMARY:PACE Module 2: ECE Then and Now
DESCRIPTION:What? This module is part of PACE (Provider Access to a Community Equivalent). PACE is one of several options to meet the licensing requirement for an initial and short certificate. To learn more about other options and see which one is right for you\, visit the DCYF website HERE and scroll down to “Equivalents.” You can also find information about PACE HERE. \nModule 2: ECE Then and Now is intended to be taken after completion of Child Care Basics\, EQEL Year 1\, and EQEL Year 2. This module includes 3 live webinars held Saturday mornings\, 9 am-12 pm on 4/23\, 5/21\, and 6/25. In addition to joining all three live webinars\, PACE includes additional work in-between webinars. If you need the initial certificate (or equivalent) to meet WAC education requirements for your role and desire to participate in this module\, please register below. \nWhen? You must attend the three webinar dates listed AND complete the independent job-embedded work. The module 2 webinars will be on 4/23\, 5/21\, and 6/25. Registering for this webinar registers you for all of the webinars in module 2. \nWho? PACE participation is designed for early learning providers who need the Washington State ECE Initial or Short Certificate for their role. This includes family home licensees\, lead teachers\, and assistant teachers. This equivalent option is not available for other early learning roles\, for Early Achievers Professional Development points\, or for ECEAP providers currently. \n  \nA few days before the training\, you will receive an email with the link to join the Zoom. This is separate from the automatically-generated email you receive right after registration. If you cannot find the email with the link\, check your junk folder. Sometimes they are sent there. \nWe would like everyone who attends our trainings to have the opportunity to benefit from their learning. If you require accommodations to fully participate\, please contact professionaldevelopment@community-minded.org at least one week in advance of the training.\nTo view training policies\, including the late arrival and cancellation policies\, please click here.
URL:https://community-minded.org/event/pace-module-2-ece-then-and-now/
LOCATION:WA
CATEGORIES:Early Learning- Online
ORGANIZER;CN="Child Care Aware of Eastern Washington":MAILTO:ProfessionalDevelopment@community-minded.org
END:VEVENT
BEGIN:VEVENT
DTSTART;TZID=America/Los_Angeles:20220426T183000
DTEND;TZID=America/Los_Angeles:20220426T203000
DTSTAMP:20260423T112601
CREATED:20220309T201316Z
LAST-MODIFIED:20220602T223209Z
UID:10000935-1650997800-1651005000@community-minded.org
SUMMARY:PACE Module 1: Reflective Teaching
DESCRIPTION:What? This module is part of PACE (Provider Access to a Community Equivalent). PACE is one of several options to meet the licensing requirement for an initial and short certificate. To learn more about other options and see which one is right for you\, visit the DCYF website HERE and scroll down to “Equivalents.” You can also find information about PACE HERE. \nModule 1: Reflective Teaching is intended to be taken after completion of Child Care Basics\, EQEL Year 1\, and EQEL Year 2. This module includes 3 live webinars. In addition to joining all three live webinars\, PACE includes additional work in-between webinars. If you need the initial certificate (or equivalent) to meet WAC education requirements for your role and desire to participate in this module\, please register below for PACE Module 1: Reflective Teaching. \nWhen? You must attend the three webinar dates listed AND complete the independent job-embedded work. The module 1 webinars will be on 4/26\, 5/25\, and 6/28. Registering for this webinar registers you for all of the webinars in module 1. \nWho? PACE participation is designed for early learning providers who need the Washington State ECE Initial or Short Certificate for their role. This includes family home licensees\, lead teachers\, and assistant teachers. This equivalent option is not available for other early learning roles\, for Early Achievers Professional Development points\, or for ECEAP providers currently. \n  \nA few days before the training\, you will receive an email with the link to join the Zoom. This is separate from the automatically-generated email you receive right after registration. If you cannot find the email with the link\, check your junk folder. Sometimes they are sent there. \nWe would like everyone who attends our trainings to have the opportunity to benefit from their learning. If you require accommodations to fully participate\, please contact professionaldevelopment@community-minded.org at least one week in advance of the training.\nTo view training policies\, including the late arrival and cancellation policies\, please click here.
URL:https://community-minded.org/event/pace-module-1-reflective-teaching/
LOCATION:WA
CATEGORIES:Early Learning- Online
ORGANIZER;CN="Child Care Aware of Eastern Washington":MAILTO:ProfessionalDevelopment@community-minded.org
END:VEVENT
BEGIN:VEVENT
DTSTART;TZID=America/Los_Angeles:20220428T183000
DTEND;TZID=America/Los_Angeles:20220428T200000
DTSTAMP:20260423T112601
CREATED:20220221T200421Z
LAST-MODIFIED:20220412T190726Z
UID:10000926-1651170600-1651176000@community-minded.org
SUMMARY:Abogacía 101
DESCRIPTION:Competencias: Desarrollo Profesional y Liderazgo\, Nivel 2 \nEntrenador: Alex Hanel\, Child Care Aware of Washington \nDescripción: \nLa capacitación explorará la abogacía: lo qué significa\, cómo hacerlo y todos los otros detalles. Si usted es un proveedor de cuidado infantil\, padre\, propietario de un negocio o miembro de la comunidad\, aprenderá cómo su voz y su historia pueden tener un gran impacto en los niños y las familias de su comunidad. \n\nAbierto a proveedores de cuidado infantil\, padres\, académicos y cualquier persona interesada\nEntrenamiento de Zoom video\n¡Aprenda qué es la defensa\, los conceptos básicos del gobierno estatal y federal y cómo puede diseñar mejores políticas de cuidado infantil para todos!\n\n  \nUnos días antes de la capacitación\, recibirá un correo electrónico con el enlace para unirse al Zoom. Esto es independiente del correo electrónico generado automáticamente que recibe justo después del registro. Si no puede encontrar el correo electrónico con el enlace\, revise su carpeta de correo no deseado. A veces se envían allí.\nNos gustaría que todos los que asisten a nuestras capacitaciones tengan la oportunidad de beneficiarse de su aprendizaje. Si necesita adaptaciones para participar plenamente\, comuníquese con professionaldevelopment@community-mind.org al menos una semana antes de la capacitación.\nPara ver las políticas de capacitación\, incluidas las políticas de llegada tardía y cancelación\, haga clic aquí.
URL:https://community-minded.org/event/abogacia-101/
LOCATION:WA
CATEGORIES:Early Learning- Online
ORGANIZER;CN="Child Care Aware of Eastern Washington":MAILTO:ProfessionalDevelopment@community-minded.org
END:VEVENT
END:VCALENDAR