BEGIN:VCALENDAR
VERSION:2.0
PRODID:-//Community Minded Enterprises - ECPv6.15.20//NONSGML v1.0//EN
CALSCALE:GREGORIAN
METHOD:PUBLISH
X-WR-CALNAME:Community Minded Enterprises
X-ORIGINAL-URL:https://community-minded.org
X-WR-CALDESC:Events for Community Minded Enterprises
REFRESH-INTERVAL;VALUE=DURATION:PT1H
X-Robots-Tag:noindex
X-PUBLISHED-TTL:PT1H
BEGIN:VTIMEZONE
TZID:America/Los_Angeles
BEGIN:DAYLIGHT
TZOFFSETFROM:-0800
TZOFFSETTO:-0700
TZNAME:PDT
DTSTART:20210314T100000
END:DAYLIGHT
BEGIN:STANDARD
TZOFFSETFROM:-0700
TZOFFSETTO:-0800
TZNAME:PST
DTSTART:20211107T090000
END:STANDARD
BEGIN:DAYLIGHT
TZOFFSETFROM:-0800
TZOFFSETTO:-0700
TZNAME:PDT
DTSTART:20220313T100000
END:DAYLIGHT
BEGIN:STANDARD
TZOFFSETFROM:-0700
TZOFFSETTO:-0800
TZNAME:PST
DTSTART:20221106T090000
END:STANDARD
BEGIN:DAYLIGHT
TZOFFSETFROM:-0800
TZOFFSETTO:-0700
TZNAME:PDT
DTSTART:20230312T100000
END:DAYLIGHT
BEGIN:STANDARD
TZOFFSETFROM:-0700
TZOFFSETTO:-0800
TZNAME:PST
DTSTART:20231105T090000
END:STANDARD
END:VTIMEZONE
BEGIN:VEVENT
DTSTART;TZID=America/Los_Angeles:20220608T180000
DTEND;TZID=America/Los_Angeles:20220608T203000
DTSTAMP:20260423T050342
CREATED:20220308T220615Z
LAST-MODIFIED:20220308T222121Z
UID:10000934-1654711200-1654720200@community-minded.org
SUMMARY:Mejorando el Aprendizaje Temprano de Calidad EQEL- Las segundas 10 horas (Año 2)
DESCRIPTION:El registro cierra el 1 de junio.\nTiene que asistir todos los días: 6/8\, 6/15\, 6/22\, 6/29. Esta capacitación cubre el contenido abordado en el segundo año\, que incluye: interacciones atractivas\, ambientes atractivos\, y apoyos de comportamiento positivo. \nLa capacitación EQEL es desarrollada por DCYF en asociación con Cultivate Learning. De acuerdo con el WAC a partir del 1 de agosto de 2019\, después de completar los conceptos básicos de cuidado infantil de 30 horas\, los nuevos directores\, subdirectores\, supervisores de programas\, propietarios de viviendas familiares\, maestros principales y asistentes los maestros toman esta clase de 10 horas y otras 10 horas el año siguiente. \n  \nUnos días antes de la capacitación\, recibirá un correo electrónico con el enlace para unirse al Zoom. Esto es independiente del correo electrónico generado automáticamente que recibe justo después del registro. Si no puede encontrar el correo electrónico con el enlace\, revise su carpeta de correo no deseado. A veces se envían allí.\nNos gustaría que todos los que asisten a nuestras capacitaciones tengan la oportunidad de beneficiarse de su aprendizaje. Si necesita adaptaciones para participar plenamente\, comuníquese con professionaldevelopment@community-mind.org al menos una semana antes de la capacitación.\nPara ver las políticas de capacitación\, incluidas las políticas de llegada tardía y cancelación\, haga clic aquí.
URL:https://community-minded.org/event/mejorando-el-aprendizaje-temprano-de-calidad-eqel-las-segundas-10-horas-ano-2/
LOCATION:WA
CATEGORIES:Early Learning- Online
ORGANIZER;CN="Child Care Aware of Eastern Washington":MAILTO:ProfessionalDevelopment@community-minded.org
END:VEVENT
END:VCALENDAR