BEGIN:VCALENDAR
VERSION:2.0
PRODID:-//Community Minded Enterprises - ECPv6.15.20//NONSGML v1.0//EN
CALSCALE:GREGORIAN
METHOD:PUBLISH
X-ORIGINAL-URL:https://community-minded.org
X-WR-CALDESC:Events for Community Minded Enterprises
REFRESH-INTERVAL;VALUE=DURATION:PT1H
X-Robots-Tag:noindex
X-PUBLISHED-TTL:PT1H
BEGIN:VTIMEZONE
TZID:America/Los_Angeles
BEGIN:DAYLIGHT
TZOFFSETFROM:-0800
TZOFFSETTO:-0700
TZNAME:PDT
DTSTART:20220313T100000
END:DAYLIGHT
BEGIN:STANDARD
TZOFFSETFROM:-0700
TZOFFSETTO:-0800
TZNAME:PST
DTSTART:20221106T090000
END:STANDARD
BEGIN:DAYLIGHT
TZOFFSETFROM:-0800
TZOFFSETTO:-0700
TZNAME:PDT
DTSTART:20230312T100000
END:DAYLIGHT
BEGIN:STANDARD
TZOFFSETFROM:-0700
TZOFFSETTO:-0800
TZNAME:PST
DTSTART:20231105T090000
END:STANDARD
BEGIN:DAYLIGHT
TZOFFSETFROM:-0800
TZOFFSETTO:-0700
TZNAME:PDT
DTSTART:20240310T100000
END:DAYLIGHT
BEGIN:STANDARD
TZOFFSETFROM:-0700
TZOFFSETTO:-0800
TZNAME:PST
DTSTART:20241103T090000
END:STANDARD
END:VTIMEZONE
BEGIN:VEVENT
DTSTART;TZID=America/Los_Angeles:20230310T090000
DTEND;TZID=America/Los_Angeles:20230310T140000
DTSTAMP:20260422T121823
CREATED:20230124T232555Z
LAST-MODIFIED:20230221T002203Z
UID:10000962-1678438800-1678456800@community-minded.org
SUMMARY:Universal Development Screening- ASQ-3\, ASQ:SE-2
DESCRIPTION:Core Competences: Child Growth and Development\, Ongoing Measures of Child Progress\, Level 2 Trainer: Shawna Glasscock Description: In this training\, program staff will learn how to complete and score screenings. Staff will also learn techniques to share information with parents and  follow up with children’s referrals to local agencies. You must attend both sessions. You must have preschool children in your program and you must work in one of the following counties: Benton\, Franklin\, Walla Walla\, Columbia\, Garfield\, or Asotin. Due to the current circumstances\, this training will be offered on Zoom for a reduced price. A few days before the training\, you will receive an email with the link to join the Zoom. This is separate from the automatically-generated email you receive right after registration. If you cannot find the email with the link\, check your junk folder. Sometimes they are sent there. View the training policies here. \nComplete your registration for the ASQ training here.
URL:https://community-minded.org/event/19496/
LOCATION:WA
CATEGORIES:Early Learning- Online
ORGANIZER;CN="Child Care Aware of Eastern Washington":MAILTO:ProfessionalDevelopment@community-minded.org
END:VEVENT
END:VCALENDAR