BEGIN:VCALENDAR
VERSION:2.0
PRODID:-//Community Minded Enterprises - ECPv6.15.20//NONSGML v1.0//EN
CALSCALE:GREGORIAN
METHOD:PUBLISH
X-ORIGINAL-URL:https://community-minded.org
X-WR-CALDESC:Events for Community Minded Enterprises
REFRESH-INTERVAL;VALUE=DURATION:PT1H
X-Robots-Tag:noindex
X-PUBLISHED-TTL:PT1H
BEGIN:VTIMEZONE
TZID:America/Los_Angeles
BEGIN:DAYLIGHT
TZOFFSETFROM:-0800
TZOFFSETTO:-0700
TZNAME:PDT
DTSTART:20230312T100000
END:DAYLIGHT
BEGIN:STANDARD
TZOFFSETFROM:-0700
TZOFFSETTO:-0800
TZNAME:PST
DTSTART:20231105T090000
END:STANDARD
BEGIN:DAYLIGHT
TZOFFSETFROM:-0800
TZOFFSETTO:-0700
TZNAME:PDT
DTSTART:20240310T100000
END:DAYLIGHT
BEGIN:STANDARD
TZOFFSETFROM:-0700
TZOFFSETTO:-0800
TZNAME:PST
DTSTART:20241103T090000
END:STANDARD
BEGIN:DAYLIGHT
TZOFFSETFROM:-0800
TZOFFSETTO:-0700
TZNAME:PDT
DTSTART:20250309T100000
END:DAYLIGHT
BEGIN:STANDARD
TZOFFSETFROM:-0700
TZOFFSETTO:-0800
TZNAME:PST
DTSTART:20251102T090000
END:STANDARD
END:VTIMEZONE
BEGIN:VEVENT
DTSTART;TZID=America/Los_Angeles:20240404T183000
DTEND;TZID=America/Los_Angeles:20240404T203000
DTSTAMP:20260421T035527
CREATED:20240228T223256Z
LAST-MODIFIED:20240410T161053Z
UID:10001028-1712255400-1712262600@community-minded.org
SUMMARY:The Business of Child Care (Zoom)
DESCRIPTION:This is a comprehensive business curriculum uniquely designed for child care owners and administrators from both centers and family child care. This curriculum covers business plans\, business leadership\, marketing\, and finance. It delivers hands-on learning activities and tools to strengthen child care businesses\, prepare for lending opportunities\, and improve facilities\, program marketing\, and overall program effectiveness. \nThis virtual series is a mixture of live webinars and self-paced learning. The webinar dates are listed below. \n\nKickoff– April 4\nChild Care Possible – April 11\nMarketing Strategies – April 25\nLeadership and Management– May 9\nSmart Finance – May 23\nPutting it All Together – June 6\n\nAll work and content must be completed to earn credit. After completing the series you will earn 21.5 STARS hours and will also be able to submit for MERIT reimbursement.  Registration closes April 8 at noon.
URL:https://community-minded.org/event/the-business-of-child-care-zoom/
LOCATION:WA
CATEGORIES:Early Learning- Online
ORGANIZER;CN="Child Care Aware of Eastern Washington":MAILTO:ProfessionalDevelopment@community-minded.org
END:VEVENT
BEGIN:VEVENT
DTSTART;TZID=America/Los_Angeles:20240422T180000
DTEND;TZID=America/Los_Angeles:20240422T210000
DTSTAMP:20260421T035527
CREATED:20240228T231223Z
LAST-MODIFIED:20240313T171724Z
UID:10001029-1713808800-1713819600@community-minded.org
SUMMARY:Washington Pyramid Model- Implementing Inclusive and Equitable Pyramid Model Practices for Infants and Toddlers  (Zoom)
DESCRIPTION:Dates: April 22\, April 29\, May 6\, May 13\, May 20 \nSTARS: 14 after completing all sessions \nTrainer: Jamie John \nDescription: \nCome learn about the Pyramid framework\, a research-based tool that can guide us as we support social-emotional development in children. This 14-hour class will help you understand and apply strategies for building relationships and collaborating with families; understand and apply social emotional learning practices in your work; and reflect on your own implicit biases while you work to create anti-biased\, anti-racist\, and trauma-informed programs that meet the needs of all children within a high-quality learning environment.
URL:https://community-minded.org/event/pyramid-model-zoom-2/
LOCATION:WA
CATEGORIES:Early Learning- Online
ORGANIZER;CN="Child Care Aware of Eastern Washington":MAILTO:ProfessionalDevelopment@community-minded.org
END:VEVENT
BEGIN:VEVENT
DTSTART;TZID=America/Los_Angeles:20240430T180000
DTEND;TZID=America/Los_Angeles:20240430T200000
DTSTAMP:20260421T035527
CREATED:20240410T162341Z
LAST-MODIFIED:20240429T171850Z
UID:10001041-1714500000-1714507200@community-minded.org
SUMMARY:Circle of Security (Zoom)
DESCRIPTION:Dates: 4/30\, 5/7\, 5/14\, 5/21\, 6/4\, 6/11\, 6/18\, 6/25 \nTrainer: Erika Larson\, LICSW\, CMHS \nDescription: \nThis professional learning series introduces some practical applications to enhance teachers’ abilities to form secure relationships with the children in their\ncare. Gain insight into new ways to understand challenging behaviors. Learn relationship‐based strategies to respond to children’s social emotional needs for safe\, secure relationships in the classroom\, a necessary ingredient for learning. \nYou will: \n\nExplore the importance of teachers in children’s lives and the central role relationships play in learning\nLearn how to respond to challenging behaviors in ways that enhance security in the relationship\nPractice observation and reflection skills\nLearn to use the COSP Classroom graphic and other practical classroom applications and strategies\nApply COSP Classroom to strengthen relationships and support children’s attachment needs\nLearn to apply COSP Classroom strategies to create relationship friendly classrooms\n\n  \nThis training is being offered for providers on the waitlist who are participating in tier 1 mental health consultation. Registration will be prioritized for these individuals.
URL:https://community-minded.org/event/circle-of-security/
LOCATION:WA
CATEGORIES:Early Learning- Online
ORGANIZER;CN="Child Care Aware of Eastern Washington":MAILTO:ProfessionalDevelopment@community-minded.org
END:VEVENT
END:VCALENDAR