BEGIN:VCALENDAR
VERSION:2.0
PRODID:-//Community Minded Enterprises - ECPv6.15.20//NONSGML v1.0//EN
CALSCALE:GREGORIAN
METHOD:PUBLISH
X-WR-CALNAME:Community Minded Enterprises
X-ORIGINAL-URL:https://community-minded.org
X-WR-CALDESC:Events for Community Minded Enterprises
REFRESH-INTERVAL;VALUE=DURATION:PT1H
X-Robots-Tag:noindex
X-PUBLISHED-TTL:PT1H
BEGIN:VTIMEZONE
TZID:America/Los_Angeles
BEGIN:DAYLIGHT
TZOFFSETFROM:-0800
TZOFFSETTO:-0700
TZNAME:PDT
DTSTART:20240310T100000
END:DAYLIGHT
BEGIN:STANDARD
TZOFFSETFROM:-0700
TZOFFSETTO:-0800
TZNAME:PST
DTSTART:20241103T090000
END:STANDARD
BEGIN:DAYLIGHT
TZOFFSETFROM:-0800
TZOFFSETTO:-0700
TZNAME:PDT
DTSTART:20250309T100000
END:DAYLIGHT
BEGIN:STANDARD
TZOFFSETFROM:-0700
TZOFFSETTO:-0800
TZNAME:PST
DTSTART:20251102T090000
END:STANDARD
BEGIN:DAYLIGHT
TZOFFSETFROM:-0800
TZOFFSETTO:-0700
TZNAME:PDT
DTSTART:20260308T100000
END:DAYLIGHT
BEGIN:STANDARD
TZOFFSETFROM:-0700
TZOFFSETTO:-0800
TZNAME:PST
DTSTART:20261101T090000
END:STANDARD
END:VTIMEZONE
BEGIN:VEVENT
DTSTART;TZID=America/Los_Angeles:20250805T181500
DTEND;TZID=America/Los_Angeles:20250805T201500
DTSTAMP:20260420T004733
CREATED:20250320T203406Z
LAST-MODIFIED:20250717T203523Z
UID:10001066-1754417700-1754424900@community-minded.org
SUMMARY:Implementing Emergent Curriculum
DESCRIPTION:Implementing Emergent Curriculum: During this training\, directors\, teachers\, and family childcare will learn the history and basics of the emergent curriculum philosophy and how to implement it in their classroom and across their early learning program. Participants will learn about the history of emergent curriculum\, how it supports developmentally appropriate practice\, and practical considerations for implementation. \nClass Details: \n\nDate: Session 1: Tuesday\, August 5\n\nSession 2: Tuesday\, August 12\n\n\nTime: 6:15pm – 8:15pm\nLocation: Spokane – Location TBD\nInstructor: Sandra Gallagher and Katie Salisbury\nCost: $40.00\nCredits: 4 STARS hours\nWhat You’ll Learn:\n\nChild Growth and Development\nCurriculum and Learning Environment\nOngoing Measurement of Child Progress\n\n\n\n\n\nSpaces are limited—reserve your spot today by clicking PD Ticket now!\n\n\nClick here to buy your ticket!\nWe would like everyone who attends our trainings to have the opportunity to benefit from their learning. If you require accommodations to fully participate\, please contact professionaldevelopment@community-minded.org at least one week in advance of the training. \nTo view training policies\, including the late arrival and cancellation policies\, please click here.
URL:https://community-minded.org/event/implementing-emergent-curriculum-5/2025-08-05/
LOCATION:WA
CATEGORIES:Early Learning- Online
ORGANIZER;CN="Child Care Aware of Eastern Washington":MAILTO:ProfessionalDevelopment@community-minded.org
END:VEVENT
BEGIN:VEVENT
DTSTART;TZID=America/Los_Angeles:20250812T181500
DTEND;TZID=America/Los_Angeles:20250812T201500
DTSTAMP:20260420T004733
CREATED:20250320T203406Z
LAST-MODIFIED:20250717T203523Z
UID:10001262-1755022500-1755029700@community-minded.org
SUMMARY:Implementing Emergent Curriculum
DESCRIPTION:Implementing Emergent Curriculum: During this training\, directors\, teachers\, and family childcare will learn the history and basics of the emergent curriculum philosophy and how to implement it in their classroom and across their early learning program. Participants will learn about the history of emergent curriculum\, how it supports developmentally appropriate practice\, and practical considerations for implementation. \nClass Details: \n\nDate: Session 1: Tuesday\, August 5\n\nSession 2: Tuesday\, August 12\n\n\nTime: 6:15pm – 8:15pm\nLocation: Spokane – Location TBD\nInstructor: Sandra Gallagher and Katie Salisbury\nCost: $40.00\nCredits: 4 STARS hours\nWhat You’ll Learn:\n\nChild Growth and Development\nCurriculum and Learning Environment\nOngoing Measurement of Child Progress\n\n\n\n\n\nSpaces are limited—reserve your spot today by clicking PD Ticket now!\n\n\nClick here to buy your ticket!\nWe would like everyone who attends our trainings to have the opportunity to benefit from their learning. If you require accommodations to fully participate\, please contact professionaldevelopment@community-minded.org at least one week in advance of the training. \nTo view training policies\, including the late arrival and cancellation policies\, please click here.
URL:https://community-minded.org/event/implementing-emergent-curriculum-5/2025-08-12/
LOCATION:WA
CATEGORIES:Early Learning- Online
ORGANIZER;CN="Child Care Aware of Eastern Washington":MAILTO:ProfessionalDevelopment@community-minded.org
END:VEVENT
END:VCALENDAR