BEGIN:VCALENDAR
VERSION:2.0
PRODID:-//Community Minded Enterprises - ECPv6.15.20//NONSGML v1.0//EN
CALSCALE:GREGORIAN
METHOD:PUBLISH
X-WR-CALNAME:Community Minded Enterprises
X-ORIGINAL-URL:https://community-minded.org
X-WR-CALDESC:Events for Community Minded Enterprises
REFRESH-INTERVAL;VALUE=DURATION:PT1H
X-Robots-Tag:noindex
X-PUBLISHED-TTL:PT1H
BEGIN:VTIMEZONE
TZID:America/Los_Angeles
BEGIN:DAYLIGHT
TZOFFSETFROM:-0800
TZOFFSETTO:-0700
TZNAME:PDT
DTSTART:20210314T100000
END:DAYLIGHT
BEGIN:STANDARD
TZOFFSETFROM:-0700
TZOFFSETTO:-0800
TZNAME:PST
DTSTART:20211107T090000
END:STANDARD
BEGIN:DAYLIGHT
TZOFFSETFROM:-0800
TZOFFSETTO:-0700
TZNAME:PDT
DTSTART:20220313T100000
END:DAYLIGHT
BEGIN:STANDARD
TZOFFSETFROM:-0700
TZOFFSETTO:-0800
TZNAME:PST
DTSTART:20221106T090000
END:STANDARD
BEGIN:DAYLIGHT
TZOFFSETFROM:-0800
TZOFFSETTO:-0700
TZNAME:PDT
DTSTART:20230312T100000
END:DAYLIGHT
BEGIN:STANDARD
TZOFFSETFROM:-0700
TZOFFSETTO:-0800
TZNAME:PST
DTSTART:20231105T090000
END:STANDARD
END:VTIMEZONE
BEGIN:VEVENT
DTSTART;TZID=America/Los_Angeles:20220209T183000
DTEND;TZID=America/Los_Angeles:20220209T203000
DTSTAMP:20260423T144228
CREATED:20211119T220544Z
LAST-MODIFIED:20211119T220544Z
UID:10000913-1644431400-1644438600@community-minded.org
SUMMARY:Healthy Habits\, Healthy Kids
DESCRIPTION:Core Competences: Health\, Safety\, and Nutrition\, Level 2 \nTrainer: Jamie Burns\, Robyn Cook \nDescription: \nWhen children are exposed to healthy food choices\, they are more likely to develop healthy eating habits.  This training will focus on integrating nutrition into daily practices and routines that help children develop balanced and healthy self-regulation habits.  We will also discover how to use food preparation experiences as opportunities for learning\, growth\, and development. \nDue to the current circumstances\, this training will be offered on Zoom for a reduced price. A few days before the training\, you will receive an email with the link to join the Zoom. This is separate from the automatically-generated email you receive right after registration. If you cannot find the email with the link\, check your junk folder. Sometimes they are sent there. View the training policies here.
URL:https://community-minded.org/event/healthy-habits-healthy-kids-3/
LOCATION:WA
CATEGORIES:Early Learning- Online
ORGANIZER;CN="Child Care Aware of Eastern Washington":MAILTO:ProfessionalDevelopment@community-minded.org
END:VEVENT
END:VCALENDAR