BEGIN:VCALENDAR
VERSION:2.0
PRODID:-//Community Minded Enterprises - ECPv6.15.20//NONSGML v1.0//EN
CALSCALE:GREGORIAN
METHOD:PUBLISH
X-ORIGINAL-URL:https://community-minded.org
X-WR-CALDESC:Events for Community Minded Enterprises
REFRESH-INTERVAL;VALUE=DURATION:PT1H
X-Robots-Tag:noindex
X-PUBLISHED-TTL:PT1H
BEGIN:VTIMEZONE
TZID:America/Los_Angeles
BEGIN:DAYLIGHT
TZOFFSETFROM:-0800
TZOFFSETTO:-0700
TZNAME:PDT
DTSTART:20210314T100000
END:DAYLIGHT
BEGIN:STANDARD
TZOFFSETFROM:-0700
TZOFFSETTO:-0800
TZNAME:PST
DTSTART:20211107T090000
END:STANDARD
BEGIN:DAYLIGHT
TZOFFSETFROM:-0800
TZOFFSETTO:-0700
TZNAME:PDT
DTSTART:20220313T100000
END:DAYLIGHT
BEGIN:STANDARD
TZOFFSETFROM:-0700
TZOFFSETTO:-0800
TZNAME:PST
DTSTART:20221106T090000
END:STANDARD
BEGIN:DAYLIGHT
TZOFFSETFROM:-0800
TZOFFSETTO:-0700
TZNAME:PDT
DTSTART:20230312T100000
END:DAYLIGHT
BEGIN:STANDARD
TZOFFSETFROM:-0700
TZOFFSETTO:-0800
TZNAME:PST
DTSTART:20231105T090000
END:STANDARD
END:VTIMEZONE
BEGIN:VEVENT
DTSTART;TZID=America/Los_Angeles:20220510T183000
DTEND;TZID=America/Los_Angeles:20220510T203000
DTSTAMP:20260423T100319
CREATED:20220222T172544Z
LAST-MODIFIED:20220503T212235Z
UID:10000928-1652207400-1652214600@community-minded.org
SUMMARY:A Social-Emotional Approach to Biting
DESCRIPTION:Core Competences: Curriculum and Learning Environment\, Families and Community Partnerships\, Levels 1-3 \nTrainer: Rebekah Klemke \nDescription: \nPlease join us as we dive deep into taking a social emotional approach to biting. Biting brings up so many emotions for everyone involved and is a developmentally appropriate behavior for infants and toddlers. During our time together we will focus on the many reasons why biting occurs\, ways to stay calm and curious when it happens\, and strategies for how to respond. Throughout the training\, participants will reflect on questions and skills that will guide them in creating an action plan and communicating with families. \n  \nA few days before the training\, you will receive an email with the link to join the Zoom. This is separate from the automatically-generated email you receive right after registration. If you cannot find the email with the link\, check your junk folder. Sometimes they are sent there. \nWe would like everyone who attends our trainings to have the opportunity to benefit from their learning. If you require accommodations to fully participate\, please contact professionaldevelopment@community-minded.org at least one week in advance of the training.\nTo view training policies\, including the late arrival and cancellation policies\, please click here.
URL:https://community-minded.org/event/a-social-emotional-approach-to-biting/
LOCATION:WA
CATEGORIES:Early Learning- Online
ORGANIZER;CN="Child Care Aware of Eastern Washington":MAILTO:ProfessionalDevelopment@community-minded.org
END:VEVENT
END:VCALENDAR