BEGIN:VCALENDAR
VERSION:2.0
PRODID:-//Community Minded Enterprises - ECPv6.15.20//NONSGML v1.0//EN
CALSCALE:GREGORIAN
METHOD:PUBLISH
X-ORIGINAL-URL:https://community-minded.org
X-WR-CALDESC:Events for Community Minded Enterprises
REFRESH-INTERVAL;VALUE=DURATION:PT1H
X-Robots-Tag:noindex
X-PUBLISHED-TTL:PT1H
BEGIN:VTIMEZONE
TZID:America/Los_Angeles
BEGIN:DAYLIGHT
TZOFFSETFROM:-0800
TZOFFSETTO:-0700
TZNAME:PDT
DTSTART:20210314T100000
END:DAYLIGHT
BEGIN:STANDARD
TZOFFSETFROM:-0700
TZOFFSETTO:-0800
TZNAME:PST
DTSTART:20211107T090000
END:STANDARD
BEGIN:DAYLIGHT
TZOFFSETFROM:-0800
TZOFFSETTO:-0700
TZNAME:PDT
DTSTART:20220313T100000
END:DAYLIGHT
BEGIN:STANDARD
TZOFFSETFROM:-0700
TZOFFSETTO:-0800
TZNAME:PST
DTSTART:20221106T090000
END:STANDARD
BEGIN:DAYLIGHT
TZOFFSETFROM:-0800
TZOFFSETTO:-0700
TZNAME:PDT
DTSTART:20230312T100000
END:DAYLIGHT
BEGIN:STANDARD
TZOFFSETFROM:-0700
TZOFFSETTO:-0800
TZNAME:PST
DTSTART:20231105T090000
END:STANDARD
END:VTIMEZONE
BEGIN:VEVENT
DTSTART;TZID=America/Los_Angeles:20220727T000000
DTEND;TZID=America/Los_Angeles:20220727T233000
DTSTAMP:20260423T051129
CREATED:20220628T193922Z
LAST-MODIFIED:20220628T212843Z
UID:10000943-1658880000-1658964600@community-minded.org
SUMMARY:Enhancing Quality Early Learning (EQEL) – Year 1- First 10 Hours
DESCRIPTION:The EQEL training is developed by DCYF in partnership with Cultivate Learning and is made available at no cost by DCYF. According to the new WAC effective 8/1/19\, after completing the 30-hour Child Care Basics\, new (hired on or after 8/1/19) directors\, assistant directors\, program supervisors\, family home owners\, lead teachers\, and assistant teachers take this 10-hour class the following year and another 10 hours the year after that. \nThis class will be held as a self-paced course online through the DCYF training portal. It will address culturally responsive practices\, brain building\, executive function\, and responsive caregiving. Please be aware that you must complete all online assignments between the start and end date of the course you select. \nTo Register: Go to dcyftraining.com
URL:https://community-minded.org/event/enhancing-quality-early-learning-eqel-year-1-first-10-hours-3/
LOCATION:WA
CATEGORIES:Early Learning- Online
ORGANIZER;CN="Child Care Aware of Eastern Washington":MAILTO:ProfessionalDevelopment@community-minded.org
END:VEVENT
END:VCALENDAR