BEGIN:VCALENDAR
VERSION:2.0
PRODID:-//Community Minded Enterprises - ECPv6.15.20//NONSGML v1.0//EN
CALSCALE:GREGORIAN
METHOD:PUBLISH
X-WR-CALNAME:Community Minded Enterprises
X-ORIGINAL-URL:https://community-minded.org
X-WR-CALDESC:Events for Community Minded Enterprises
REFRESH-INTERVAL;VALUE=DURATION:PT1H
X-Robots-Tag:noindex
X-PUBLISHED-TTL:PT1H
BEGIN:VTIMEZONE
TZID:America/Los_Angeles
BEGIN:DAYLIGHT
TZOFFSETFROM:-0800
TZOFFSETTO:-0700
TZNAME:PDT
DTSTART:20210314T100000
END:DAYLIGHT
BEGIN:STANDARD
TZOFFSETFROM:-0700
TZOFFSETTO:-0800
TZNAME:PST
DTSTART:20211107T090000
END:STANDARD
BEGIN:DAYLIGHT
TZOFFSETFROM:-0800
TZOFFSETTO:-0700
TZNAME:PDT
DTSTART:20220313T100000
END:DAYLIGHT
BEGIN:STANDARD
TZOFFSETFROM:-0700
TZOFFSETTO:-0800
TZNAME:PST
DTSTART:20221106T090000
END:STANDARD
BEGIN:DAYLIGHT
TZOFFSETFROM:-0800
TZOFFSETTO:-0700
TZNAME:PDT
DTSTART:20230312T100000
END:DAYLIGHT
BEGIN:STANDARD
TZOFFSETFROM:-0700
TZOFFSETTO:-0800
TZNAME:PST
DTSTART:20231105T090000
END:STANDARD
END:VTIMEZONE
BEGIN:VEVENT
DTSTART;TZID=America/Los_Angeles:20221025T183000
DTEND;TZID=America/Los_Angeles:20221025T203000
DTSTAMP:20260422T224313
CREATED:20220823T220633Z
LAST-MODIFIED:20220914T212921Z
UID:10000951-1666722600-1666729800@community-minded.org
SUMMARY:Conscious Discipline SEL Facilitated Video Series for Infants and Toddlers
DESCRIPTION:This training has been postponed to start in a different quarter. If you are looking for a Conscious Discipline training\, please see the Facilitated 10-Hr Video Series training here. \nDates: 10/25\, 11/22\, 12/20\, 1/24\, 2/28\, 3/28\, 4/25\, 5/23\, 6/27\, 7/25\, 8/22\, 9/26 \nCore Competences: Interactions\, Level 3 \nSTARS Hours: 24 \nFacilitator: Brandy Greenhalgh \nDescription: \nAre you an infant or toddler teacher who cares about the social and emotional health of children? Or have you already been introduced to Conscious Discipline and are ready for a deeper dive? Using videos that present neuroscience\, child development\, evidence-based strategies and a trauma-informed approach\, participants will be equipped with best practices to transform how we see ourselves\, our relationships and our children. \nDue to the current circumstances\, this training will be offered on Zoom for a reduced price. A few days before the training\, you will receive an email with the link to join the Zoom. This is separate from the automatically-generated email you receive right after registration. If you cannot find the email with the link\, check your junk folder. Sometimes they are sent there. View the training policies here.
URL:https://community-minded.org/event/conscious-discipline-sel-facilitated-video-series-for-infants-and-toddlers/
LOCATION:WA
CATEGORIES:Early Learning- Online
ORGANIZER;CN="Child Care Aware of Eastern Washington":MAILTO:ProfessionalDevelopment@community-minded.org
END:VEVENT
END:VCALENDAR