BEGIN:VCALENDAR
VERSION:2.0
PRODID:-//Community Minded Enterprises - ECPv6.15.20//NONSGML v1.0//EN
CALSCALE:GREGORIAN
METHOD:PUBLISH
X-WR-CALNAME:Community Minded Enterprises
X-ORIGINAL-URL:https://community-minded.org
X-WR-CALDESC:Events for Community Minded Enterprises
REFRESH-INTERVAL;VALUE=DURATION:PT1H
X-Robots-Tag:noindex
X-PUBLISHED-TTL:PT1H
BEGIN:VTIMEZONE
TZID:America/Los_Angeles
BEGIN:DAYLIGHT
TZOFFSETFROM:-0800
TZOFFSETTO:-0700
TZNAME:PDT
DTSTART:20210314T100000
END:DAYLIGHT
BEGIN:STANDARD
TZOFFSETFROM:-0700
TZOFFSETTO:-0800
TZNAME:PST
DTSTART:20211107T090000
END:STANDARD
BEGIN:DAYLIGHT
TZOFFSETFROM:-0800
TZOFFSETTO:-0700
TZNAME:PDT
DTSTART:20220313T100000
END:DAYLIGHT
BEGIN:STANDARD
TZOFFSETFROM:-0700
TZOFFSETTO:-0800
TZNAME:PST
DTSTART:20221106T090000
END:STANDARD
BEGIN:DAYLIGHT
TZOFFSETFROM:-0800
TZOFFSETTO:-0700
TZNAME:PDT
DTSTART:20230312T100000
END:DAYLIGHT
BEGIN:STANDARD
TZOFFSETFROM:-0700
TZOFFSETTO:-0800
TZNAME:PST
DTSTART:20231105T090000
END:STANDARD
END:VTIMEZONE
BEGIN:VEVENT
DTSTART;TZID=America/Los_Angeles:20221027T183000
DTEND;TZID=America/Los_Angeles:20221027T203000
DTSTAMP:20260422T224309
CREATED:20220824T163947Z
LAST-MODIFIED:20221025T223445Z
UID:10000952-1666895400-1666902600@community-minded.org
SUMMARY:The Growing Brain from Zero to Three- The Basics of the Brain
DESCRIPTION:If you are having technical difficulties registering on the internet\, please call (509)385-2780 for assistance with registration over the phone.\nDates: This training is designed to either be taken as a stand-alone module or as part of a series. \n\nOctober 27- The Basics of the Brain\nNovember 10- Understanding Behavior\nNovember 17- The Factors Affecting Brain Growth and Development (rescheduled from Nov. 3)\n\nCore Competences: Child Growth and Development\, Level 4 \nTrainer: Shannon Blewett \nSTARS: 2 \nDescription: \nThis series developed Zero to Three looks at the neuroscience of the developing brain. The developing and growing brain is one of the most important topics in early childhood development\, as experiences in the first years of life actually shape the architecture and functioning of the brain. It’s the basic day-to-day experiences\, be they nurturing or not\, that set a child on his course of brain development for life. Clearly\, this is an essential topic! This training\, delivered by a certified Zero to Three trainer\, will help you to dive more deeply into important topics relating to brain development and how it relates to you\, the caregiver. \n \nA few days before the training\, you will receive an email with the link to join the Zoom. This is separate from the automatically-generated email you receive right after registration. If you cannot find the email with the link\, check your junk folder. Sometimes they are sent there. \nWe would like everyone who attends our trainings to have the opportunity to benefit from their learning. If you require accommodations to fully participate\, please contact professionaldevelopment@community-minded.org at least one week in advance of the training.\nTo view training policies\, including the late arrival and cancellation policies\, please click here.
URL:https://community-minded.org/event/the-growing-brain-from-zero-to-three-the-basics-of-the-brain/
LOCATION:WA
CATEGORIES:Early Learning- Online
ORGANIZER;CN="Child Care Aware of Eastern Washington":MAILTO:ProfessionalDevelopment@community-minded.org
END:VEVENT
END:VCALENDAR