BEGIN:VCALENDAR
VERSION:2.0
PRODID:-//Community Minded Enterprises - ECPv6.15.20//NONSGML v1.0//EN
CALSCALE:GREGORIAN
METHOD:PUBLISH
X-WR-CALNAME:Community Minded Enterprises
X-ORIGINAL-URL:https://community-minded.org
X-WR-CALDESC:Events for Community Minded Enterprises
REFRESH-INTERVAL;VALUE=DURATION:PT1H
X-Robots-Tag:noindex
X-PUBLISHED-TTL:PT1H
BEGIN:VTIMEZONE
TZID:America/Los_Angeles
BEGIN:DAYLIGHT
TZOFFSETFROM:-0800
TZOFFSETTO:-0700
TZNAME:PDT
DTSTART:20210314T100000
END:DAYLIGHT
BEGIN:STANDARD
TZOFFSETFROM:-0700
TZOFFSETTO:-0800
TZNAME:PST
DTSTART:20211107T090000
END:STANDARD
BEGIN:DAYLIGHT
TZOFFSETFROM:-0800
TZOFFSETTO:-0700
TZNAME:PDT
DTSTART:20220313T100000
END:DAYLIGHT
BEGIN:STANDARD
TZOFFSETFROM:-0700
TZOFFSETTO:-0800
TZNAME:PST
DTSTART:20221106T090000
END:STANDARD
BEGIN:DAYLIGHT
TZOFFSETFROM:-0800
TZOFFSETTO:-0700
TZNAME:PDT
DTSTART:20230312T100000
END:DAYLIGHT
BEGIN:STANDARD
TZOFFSETFROM:-0700
TZOFFSETTO:-0800
TZNAME:PST
DTSTART:20231105T090000
END:STANDARD
END:VTIMEZONE
BEGIN:VEVENT
DTSTART;TZID=America/Los_Angeles:20221118T090000
DTEND;TZID=America/Los_Angeles:20221118T110000
DTSTAMP:20260422T210445
CREATED:20220822T215059Z
LAST-MODIFIED:20220901T200213Z
UID:10000949-1668762000-1668769200@community-minded.org
SUMMARY:Marketing for Child Care: Showing Your Strengths!
DESCRIPTION:If you are having technical difficulties registering on the internet\, please call (509)385-2780 for assistance with registration over the phone.\nCore Competences: Professional Development and Leadership\, Level 3 \nTrainer: Jamie Burns \nSTARS: 2 \nDescription: \nMarketing for child care is not just about finding new children and families to serve.  It is about defining who you are – what is special\, unique and excellent about the programs you provide.  Being intentional about how you describe your program can help manage expectations and being careful about where your name appears can help you reach the families you most want to connect with.  This training will help you reflect on who you are and what type of child care and early learning you provide and how to create a message and a “brand”.  It will include information about diversity and inclusion considerations. \n\nA few days before the training\, you will receive an email with the link to join the Zoom. This is separate from the automatically-generated email you receive right after registration. If you cannot find the email with the link\, check your junk folder. Sometimes they are sent there. \nWe would like everyone who attends our trainings to have the opportunity to benefit from their learning. If you require accommodations to fully participate\, please contact professionaldevelopment@community-minded.org at least one week in advance of the training.\nTo view training policies\, including the late arrival and cancellation policies\, please click here.
URL:https://community-minded.org/event/marketing-for-child-care-showing-your-strengths/
LOCATION:WA
CATEGORIES:Early Learning- Online
ORGANIZER;CN="Child Care Aware of Eastern Washington":MAILTO:ProfessionalDevelopment@community-minded.org
END:VEVENT
END:VCALENDAR