BEGIN:VCALENDAR
VERSION:2.0
PRODID:-//Community Minded Enterprises - ECPv6.15.20//NONSGML v1.0//EN
CALSCALE:GREGORIAN
METHOD:PUBLISH
X-ORIGINAL-URL:https://community-minded.org
X-WR-CALDESC:Events for Community Minded Enterprises
REFRESH-INTERVAL;VALUE=DURATION:PT1H
X-Robots-Tag:noindex
X-PUBLISHED-TTL:PT1H
BEGIN:VTIMEZONE
TZID:America/Los_Angeles
BEGIN:DAYLIGHT
TZOFFSETFROM:-0800
TZOFFSETTO:-0700
TZNAME:PDT
DTSTART:20210314T100000
END:DAYLIGHT
BEGIN:STANDARD
TZOFFSETFROM:-0700
TZOFFSETTO:-0800
TZNAME:PST
DTSTART:20211107T090000
END:STANDARD
BEGIN:DAYLIGHT
TZOFFSETFROM:-0800
TZOFFSETTO:-0700
TZNAME:PDT
DTSTART:20220313T100000
END:DAYLIGHT
BEGIN:STANDARD
TZOFFSETFROM:-0700
TZOFFSETTO:-0800
TZNAME:PST
DTSTART:20221106T090000
END:STANDARD
BEGIN:DAYLIGHT
TZOFFSETFROM:-0800
TZOFFSETTO:-0700
TZNAME:PDT
DTSTART:20230312T100000
END:DAYLIGHT
BEGIN:STANDARD
TZOFFSETFROM:-0700
TZOFFSETTO:-0800
TZNAME:PST
DTSTART:20231105T090000
END:STANDARD
END:VTIMEZONE
BEGIN:VEVENT
DTSTART;TZID=America/Los_Angeles:20221206T183000
DTEND;TZID=America/Los_Angeles:20221206T210000
DTSTAMP:20260422T192932
CREATED:20220824T205950Z
LAST-MODIFIED:20221206T223615Z
UID:10000955-1670351400-1670360400@community-minded.org
SUMMARY:Comprender las Raíces del Comportamiento (Zoom)
DESCRIPTION:Si tiene dificultades técnicas para registrarse en Internet\, llame al (509) 385-2780 para obtener ayuda con el registro por teléfono.\nAptitudes: crecimiento y desarrollo infantil\, interacciones\, nivel 3 \nEntrenedor: Lupita Curiel \nHoras de STARS: 2.5 \nDescripción: \nLos comportamientos desafiantes son a menudo el resultado de necesidades no satisfechas. Obtenga más información sobre las necesidades sociales/emocionales de los niños y lo que puede hacer para satisfacer esas necesidades. Cuando las necesidades se satisfacen a través de relaciones positivas\, los niños se comportarán mejor y estarán listos para aprender. \n  \nSi las circunstancias obligan a cancelar nuestras clases presenciales (o un cambio a un formato en Zoom)\, comunicaremos con aquellos que estén registrados. Del mismo modo\, si las condiciones o los protocolos de COVID lo llevan a querer cancelar su asistencia\, avísenos antes del mediodía del día anterior a su clase y le emitiremos un reembolso completo u ofreceremos un intercambio si corresponde. \nSe seguirán los siguientes protocolos: \n\nLas superficies se desinfectarán antes de la clase\nSe pedirá a los participantes que respondan a un examen de salud al ingresar\nSi presenta algún síntoma de enfermedad\, no asista por favor\nEl tamaño de las clases se limitará para acomodar a las personas con un espacio de 6 pies (regístrese con anticipación para guardar su asiento)\nLas ventanas y puertas pueden estar al menos parcialmente abiertas para estimular el flujo de aire (considere la posibilidad de colocar capas)\nSe requerirán máscaras para todos los participantes (por favor traiga la suya)\nHabrá desinfectante de manos disponible en nuestras aulas\nLe solicitamos que traiga su propio bolígrafo / lápiz y papel\, para evitar compartir materiales\nPor razones de salud\, no comeremos en nuestros espacios de entrenamiento en este momento.\n\nNos gustaría que todos los que asisten a nuestras capacitaciones tengan la oportunidad de beneficiarse de su aprendizaje. Si necesita adaptaciones para participar plenamente\, comuníquese con professionaldevelopment@community-mind.org al menos una semana antes de la capacitación.
URL:https://community-minded.org/event/comprender-las-raices-del-comportamiento-en-persona-pasco/
LOCATION:WA
CATEGORIES:Early Learning- Online
ORGANIZER;CN="Child Care Aware of Eastern Washington":MAILTO:ProfessionalDevelopment@community-minded.org
END:VEVENT
END:VCALENDAR