BEGIN:VCALENDAR
VERSION:2.0
PRODID:-//Community Minded Enterprises - ECPv6.15.20//NONSGML v1.0//EN
CALSCALE:GREGORIAN
METHOD:PUBLISH
X-WR-CALNAME:Community Minded Enterprises
X-ORIGINAL-URL:https://community-minded.org
X-WR-CALDESC:Events for Community Minded Enterprises
REFRESH-INTERVAL;VALUE=DURATION:PT1H
X-Robots-Tag:noindex
X-PUBLISHED-TTL:PT1H
BEGIN:VTIMEZONE
TZID:America/Los_Angeles
BEGIN:DAYLIGHT
TZOFFSETFROM:-0800
TZOFFSETTO:-0700
TZNAME:PDT
DTSTART:20220313T100000
END:DAYLIGHT
BEGIN:STANDARD
TZOFFSETFROM:-0700
TZOFFSETTO:-0800
TZNAME:PST
DTSTART:20221106T090000
END:STANDARD
BEGIN:DAYLIGHT
TZOFFSETFROM:-0800
TZOFFSETTO:-0700
TZNAME:PDT
DTSTART:20230312T100000
END:DAYLIGHT
BEGIN:STANDARD
TZOFFSETFROM:-0700
TZOFFSETTO:-0800
TZNAME:PST
DTSTART:20231105T090000
END:STANDARD
BEGIN:DAYLIGHT
TZOFFSETFROM:-0800
TZOFFSETTO:-0700
TZNAME:PDT
DTSTART:20240310T100000
END:DAYLIGHT
BEGIN:STANDARD
TZOFFSETFROM:-0700
TZOFFSETTO:-0800
TZNAME:PST
DTSTART:20241103T090000
END:STANDARD
END:VTIMEZONE
BEGIN:VEVENT
DTSTART;TZID=America/Los_Angeles:20230404T183000
DTEND;TZID=America/Los_Angeles:20230404T200000
DTSTAMP:20260422T121802
CREATED:20230222T233154Z
LAST-MODIFIED:20230224T194550Z
UID:10000967-1680633000-1680638400@community-minded.org
SUMMARY:Advocacy 101
DESCRIPTION:Core Competencies: Professional Development and Leadership \nTrainer: Alex Hanel \nSTARS: 1.5 \nDescription: \nThis training will explore advocacy – what it is\, how to do it\, and all the details in between. Whether you are a childcare provider\, parent\, business owner\, or community member\, you will learn how your voice matters and can make a huge impact on children and families. \n\nOpen to child care providers\, parents\, scholars\, and any interested advocates\n90-minute online\, live Zoom training\nLearn what advocacy is\, the basics of state and federal government\, and how you can help shape better child care policies for everyone\nEnter 00000 if not registering for STARS credit\nClick the link below to register\n\nClick here to register today!
URL:https://community-minded.org/event/advocacy-101-2/
LOCATION:WA
CATEGORIES:Early Learning- Online
ORGANIZER;CN="Child Care Aware of Eastern Washington":MAILTO:ProfessionalDevelopment@community-minded.org
END:VEVENT
END:VCALENDAR