BEGIN:VCALENDAR
VERSION:2.0
PRODID:-//Community Minded Enterprises - ECPv6.15.20//NONSGML v1.0//EN
CALSCALE:GREGORIAN
METHOD:PUBLISH
X-WR-CALNAME:Community Minded Enterprises
X-ORIGINAL-URL:https://community-minded.org
X-WR-CALDESC:Events for Community Minded Enterprises
REFRESH-INTERVAL;VALUE=DURATION:PT1H
X-Robots-Tag:noindex
X-PUBLISHED-TTL:PT1H
BEGIN:VTIMEZONE
TZID:America/Los_Angeles
BEGIN:DAYLIGHT
TZOFFSETFROM:-0800
TZOFFSETTO:-0700
TZNAME:PDT
DTSTART:20220313T100000
END:DAYLIGHT
BEGIN:STANDARD
TZOFFSETFROM:-0700
TZOFFSETTO:-0800
TZNAME:PST
DTSTART:20221106T090000
END:STANDARD
BEGIN:DAYLIGHT
TZOFFSETFROM:-0800
TZOFFSETTO:-0700
TZNAME:PDT
DTSTART:20230312T100000
END:DAYLIGHT
BEGIN:STANDARD
TZOFFSETFROM:-0700
TZOFFSETTO:-0800
TZNAME:PST
DTSTART:20231105T090000
END:STANDARD
BEGIN:DAYLIGHT
TZOFFSETFROM:-0800
TZOFFSETTO:-0700
TZNAME:PDT
DTSTART:20240310T100000
END:DAYLIGHT
BEGIN:STANDARD
TZOFFSETFROM:-0700
TZOFFSETTO:-0800
TZNAME:PST
DTSTART:20241103T090000
END:STANDARD
END:VTIMEZONE
BEGIN:VEVENT
DTSTART;TZID=America/Los_Angeles:20230726T183000
DTEND;TZID=America/Los_Angeles:20230726T203000
DTSTAMP:20260422T063844
CREATED:20230608T175412Z
LAST-MODIFIED:20230608T175412Z
UID:10000988-1690396200-1690403400@community-minded.org
SUMMARY:Nurturing Deep Roots for Infants and Toddlers through Serve and Return (Zoom)
DESCRIPTION:Core Competencies: Interactions\, Levels 1- 3 \nTrainer: Rebekah Klemke and Eva Gamboa \nSTARS: 2 \nDescription: \nPlease join us as we dive deeply into establishing deep roots through responsive caregiving. Research has now shown the most optimal way to foster both healthy brain development and a healthy social emotional foundation is through interactions called “serve and return”. During our time together we will focus on ways to identify\, promote\, and support children’s social emotional development through responsive child-led interactions. Finally\, participants will reflect upon opportunities to grow and deepen the relational roots between them and the infants and toddlers they care for. \nWe would like everyone who attends our trainings to have the opportunity to benefit from their learning. If you require accommodations to fully participate\, please contact professionaldevelopment@community-minded.org at least one week in advance of the training. \nTo view training policies\, including the late arrival and cancellation policies\, please click here.
URL:https://community-minded.org/event/nurturing-deep-roots-for-infants-and-toddlers-through-serve-and-return-zoom/
LOCATION:WA
CATEGORIES:Early Learning- Online
ORGANIZER;CN="Child Care Aware of Eastern Washington":MAILTO:ProfessionalDevelopment@community-minded.org
END:VEVENT
END:VCALENDAR