BEGIN:VCALENDAR
VERSION:2.0
PRODID:-//Community Minded Enterprises - ECPv6.15.20//NONSGML v1.0//EN
CALSCALE:GREGORIAN
METHOD:PUBLISH
X-ORIGINAL-URL:https://community-minded.org
X-WR-CALDESC:Events for Community Minded Enterprises
REFRESH-INTERVAL;VALUE=DURATION:PT1H
X-Robots-Tag:noindex
X-PUBLISHED-TTL:PT1H
BEGIN:VTIMEZONE
TZID:America/Los_Angeles
BEGIN:DAYLIGHT
TZOFFSETFROM:-0800
TZOFFSETTO:-0700
TZNAME:PDT
DTSTART:20220313T100000
END:DAYLIGHT
BEGIN:STANDARD
TZOFFSETFROM:-0700
TZOFFSETTO:-0800
TZNAME:PST
DTSTART:20221106T090000
END:STANDARD
BEGIN:DAYLIGHT
TZOFFSETFROM:-0800
TZOFFSETTO:-0700
TZNAME:PDT
DTSTART:20230312T100000
END:DAYLIGHT
BEGIN:STANDARD
TZOFFSETFROM:-0700
TZOFFSETTO:-0800
TZNAME:PST
DTSTART:20231105T090000
END:STANDARD
BEGIN:DAYLIGHT
TZOFFSETFROM:-0800
TZOFFSETTO:-0700
TZNAME:PDT
DTSTART:20240310T100000
END:DAYLIGHT
BEGIN:STANDARD
TZOFFSETFROM:-0700
TZOFFSETTO:-0800
TZNAME:PST
DTSTART:20241103T090000
END:STANDARD
END:VTIMEZONE
BEGIN:VEVENT
DTSTART;TZID=America/Los_Angeles:20231118T130000
DTEND;TZID=America/Los_Angeles:20231118T150000
DTSTAMP:20260422T224600
CREATED:20230828T163233Z
LAST-MODIFIED:20231116T220504Z
UID:10001001-1700312400-1700319600@community-minded.org
SUMMARY:Art for Discovery (In-person\, Pullman)
DESCRIPTION:Core Competencies: Curriculum and Learning Environments\, Level 2 \nSTARS Hours: 2 \nTrainer: Tiffany Pedersen \nDescription: \nDo you ever feel like your art time is not what you want it to be? Do you or the children end up getting frustrated with projects? Or are you just out of fresh ideas? This training is designed to help early learning professionals better understand why art is important\, identify what type of art is developmentally appropriate for children\, and discuss great ways to implement and display children’s art in the child care environment. Teachers will leave with ideas for art projects that provide children with fun opportunities for discovery and learning.
URL:https://community-minded.org/event/art-for-discovery-in-person-pullman/
LOCATION:Neill Public Library\, 210 N Grand Ave\, Pullman\, WA\, 99163\, United States
CATEGORIES:Early Learning- Southeast WA
ORGANIZER;CN="Child Care Aware of Eastern Washington":MAILTO:ProfessionalDevelopment@community-minded.org
END:VEVENT
END:VCALENDAR