BEGIN:VCALENDAR
VERSION:2.0
PRODID:-//Community Minded Enterprises - ECPv6.15.20//NONSGML v1.0//EN
CALSCALE:GREGORIAN
METHOD:PUBLISH
X-ORIGINAL-URL:https://community-minded.org
X-WR-CALDESC:Events for Community Minded Enterprises
REFRESH-INTERVAL;VALUE=DURATION:PT1H
X-Robots-Tag:noindex
X-PUBLISHED-TTL:PT1H
BEGIN:VTIMEZONE
TZID:America/Los_Angeles
BEGIN:DAYLIGHT
TZOFFSETFROM:-0800
TZOFFSETTO:-0700
TZNAME:PDT
DTSTART:20230312T100000
END:DAYLIGHT
BEGIN:STANDARD
TZOFFSETFROM:-0700
TZOFFSETTO:-0800
TZNAME:PST
DTSTART:20231105T090000
END:STANDARD
BEGIN:DAYLIGHT
TZOFFSETFROM:-0800
TZOFFSETTO:-0700
TZNAME:PDT
DTSTART:20240310T100000
END:DAYLIGHT
BEGIN:STANDARD
TZOFFSETFROM:-0700
TZOFFSETTO:-0800
TZNAME:PST
DTSTART:20241103T090000
END:STANDARD
BEGIN:DAYLIGHT
TZOFFSETFROM:-0800
TZOFFSETTO:-0700
TZNAME:PDT
DTSTART:20250309T100000
END:DAYLIGHT
BEGIN:STANDARD
TZOFFSETFROM:-0700
TZOFFSETTO:-0800
TZNAME:PST
DTSTART:20251102T090000
END:STANDARD
END:VTIMEZONE
BEGIN:VEVENT
DTSTART;TZID=America/Los_Angeles:20240224T130000
DTEND;TZID=America/Los_Angeles:20240224T150000
DTSTAMP:20260422T145238
CREATED:20231130T233728Z
LAST-MODIFIED:20240118T213704Z
UID:10001014-1708779600-1708786800@community-minded.org
SUMMARY:Help! It's Transition Time (in-person\, Pullman)
DESCRIPTION:Core Competences: Interactions \nSTARS Hours: 2 \nFacilitator: Tiffany Pedersen \nDescription: \nTransitioning from one activity to the next can be especially difficult for some children. Challenging behavior\, large classes\, and tight schedules can make transition time difficult for teachers\, too. Come learn strategies for smoothing out those transitions\, maximizing learning and reducing stress on teachers and children. This class is suitable for center teachers that work with toddlers or preschool-aged children.
URL:https://community-minded.org/event/help-its-transition-time-in-person-pullman/
LOCATION:Neill Public Library\, 210 N Grand Ave\, Pullman\, WA\, 99163\, United States
CATEGORIES:Early Learning- Southeast WA
ORGANIZER;CN="Child Care Aware of Eastern Washington":MAILTO:ProfessionalDevelopment@community-minded.org
END:VEVENT
END:VCALENDAR