BEGIN:VCALENDAR
VERSION:2.0
PRODID:-//Community Minded Enterprises - ECPv6.15.20//NONSGML v1.0//EN
CALSCALE:GREGORIAN
METHOD:PUBLISH
X-WR-CALNAME:Community Minded Enterprises
X-ORIGINAL-URL:https://community-minded.org
X-WR-CALDESC:Events for Community Minded Enterprises
REFRESH-INTERVAL;VALUE=DURATION:PT1H
X-Robots-Tag:noindex
X-PUBLISHED-TTL:PT1H
BEGIN:VTIMEZONE
TZID:America/Los_Angeles
BEGIN:DAYLIGHT
TZOFFSETFROM:-0800
TZOFFSETTO:-0700
TZNAME:PDT
DTSTART:20240310T100000
END:DAYLIGHT
BEGIN:STANDARD
TZOFFSETFROM:-0700
TZOFFSETTO:-0800
TZNAME:PST
DTSTART:20241103T090000
END:STANDARD
BEGIN:DAYLIGHT
TZOFFSETFROM:-0800
TZOFFSETTO:-0700
TZNAME:PDT
DTSTART:20250309T100000
END:DAYLIGHT
BEGIN:STANDARD
TZOFFSETFROM:-0700
TZOFFSETTO:-0800
TZNAME:PST
DTSTART:20251102T090000
END:STANDARD
BEGIN:DAYLIGHT
TZOFFSETFROM:-0800
TZOFFSETTO:-0700
TZNAME:PDT
DTSTART:20260308T100000
END:DAYLIGHT
BEGIN:STANDARD
TZOFFSETFROM:-0700
TZOFFSETTO:-0800
TZNAME:PST
DTSTART:20261101T090000
END:STANDARD
END:VTIMEZONE
BEGIN:VEVENT
DTSTART;TZID=America/Los_Angeles:20250222T090000
DTEND;TZID=America/Los_Angeles:20250419T130000
DTSTAMP:20260420T172722
CREATED:20240723T170405Z
LAST-MODIFIED:20250110T183831Z
UID:10001046-1740214800-1745067600@community-minded.org
SUMMARY:El Negocio del Cuidado Infantil/Business of Child Care (en persona\, Walla Walla)
DESCRIPTION:Description: \nThis is a comprehensive business curriculum uniquely designed for child care owners and administrators from both centers and family child care. This curriculum covers business plans\, business leadership\, marketing\, and finance. It delivers hands-on learning activities and tools to strengthen child care businesses\, prepare for lending opportunities\, and improve facilities\, program marketing\, and overall program effectiveness. \nThis class will be held fully in person. It will be trained in English with the opportunity for Spanish interpretation. Please plan to attend all 5 dates listed below. \n\nFebruary 22 – Introduction\nMarch 8 – Marketing Strategies\nMarch 22 – Leadership and Management\nApril 5 – Smart Finance\nApril 19 – Putting it all Together\n\nDescripción: \nEste es un plan de estudios de negocios integral diseñado exclusivamente para dueños y administradores de cuidado infantil familiar. Este plan de estudios cubre planes de negocios\, mercadotecnia\, liderazgo\, y finanzas. Ofrece herramientas y actividades de aprendizaje prácticas para fortalecer las empresas de cuidado infantil familiar\, prepararse para las oportunidades de préstamos y mejorar las instalaciones\, el mercadotecia del programa y la eficacia general del programa. \nEsta clase es totalmente en persona. Por favor planee asistir a las cinco fechas enumeradas a continuación. \n\nel 22 de febrero- Introducción a un negocio sólido\nel 8 de marzo- Estrategias de mercadotecnia\nel 22 de marzo- Liderazgo\nel 5 de abril- Finanzas con técnica\n19 de abril  Día de proyecto
URL:https://community-minded.org/event/el-negocio-del-cuidado-infantil-business-of-child-care-en-persona-walla-walla/
LOCATION:Blue Mountain Action Council\, 8 E Cherry St\, Walla Walla\, WA\, 99362\, United States
CATEGORIES:Early Learning- Southeast WA
ORGANIZER;CN="Community-Minded Enterprises and CCA of Eastern WA":MAILTO:professionaldevelopment@community-minded.org
END:VEVENT
BEGIN:VEVENT
DTSTART;TZID=America/Los_Angeles:20250315T090000
DTEND;TZID=America/Los_Angeles:20250315T120000
DTSTAMP:20260420T172722
CREATED:20250213T000145Z
LAST-MODIFIED:20250213T000145Z
UID:10001056-1742029200-1742040000@community-minded.org
SUMMARY:Take a Bite of Challenging Behaviors
DESCRIPTION:Positive Behavior Strategies: Supporting Social Development in Children \nJoin us for an informative and practical workshop designed to help childcare providers foster positive social behaviors in children while understanding the root causes of challenging behaviors. \nDate: March 15\, 2025\nTime: 9:00 AM – 12:00 PM\nLocation: 419 N Park Way\, Uniontown\, WA 99179 (In-Person)\nInstructor: Tiffany Pederson \nWhat You’ll Learn: \n\nRecognize and implement positive behavior strategies to support children’s social development.\nSet realistic expectations and understand what behaviors are appropriate for different ages and stages.\nLearn to determine the meaning behind children’s behaviors and how to respond effectively.\nExplore ways to create an effective and supportive classroom environment.\nReflect on how personal attitudes and beliefs about children’s behavior influence outcomes and interactions.\n\nThis workshop is ideal for childcare providers seeking to enhance their skills in guiding children’s behavior in a positive and developmentally appropriate manner. \nCost: $30.00\nCredits: 3 hours STARS\nLevel: 3 (Core Competencies: 1 hour Curriculum & Learning Environment\, 2 hours Interactions)\nLanguage: English\nFormat: In-Person \nImportant Notes:\n\nPlease register individually. Only one ticket per email address is allowed.\nIf others from your organization wish to attend\, they must register separately.\n\nSpaces are limited—reserve your spot today!
URL:https://community-minded.org/event/take-a-bite-of-challenging-behaviors/
LOCATION:Artisans at the Dahmen Barn\, 419 N Park Way\, Uniontown\, WA\, 99179\, United States
CATEGORIES:Early Learning- Southeast WA
END:VEVENT
END:VCALENDAR