BEGIN:VCALENDAR
VERSION:2.0
PRODID:-//Community Minded Enterprises - ECPv6.15.20//NONSGML v1.0//EN
CALSCALE:GREGORIAN
METHOD:PUBLISH
X-ORIGINAL-URL:https://community-minded.org
X-WR-CALDESC:Events for Community Minded Enterprises
REFRESH-INTERVAL;VALUE=DURATION:PT1H
X-Robots-Tag:noindex
X-PUBLISHED-TTL:PT1H
BEGIN:VTIMEZONE
TZID:America/Los_Angeles
BEGIN:DAYLIGHT
TZOFFSETFROM:-0800
TZOFFSETTO:-0700
TZNAME:PDT
DTSTART:20220313T100000
END:DAYLIGHT
BEGIN:STANDARD
TZOFFSETFROM:-0700
TZOFFSETTO:-0800
TZNAME:PST
DTSTART:20221106T090000
END:STANDARD
BEGIN:DAYLIGHT
TZOFFSETFROM:-0800
TZOFFSETTO:-0700
TZNAME:PDT
DTSTART:20230312T100000
END:DAYLIGHT
BEGIN:STANDARD
TZOFFSETFROM:-0700
TZOFFSETTO:-0800
TZNAME:PST
DTSTART:20231105T090000
END:STANDARD
BEGIN:DAYLIGHT
TZOFFSETFROM:-0800
TZOFFSETTO:-0700
TZNAME:PDT
DTSTART:20240310T100000
END:DAYLIGHT
BEGIN:STANDARD
TZOFFSETFROM:-0700
TZOFFSETTO:-0800
TZNAME:PST
DTSTART:20241103T090000
END:STANDARD
END:VTIMEZONE
BEGIN:VEVENT
DTSTART;TZID=America/Los_Angeles:20230607T123000
DTEND;TZID=America/Los_Angeles:20230607T133000
DTSTAMP:20260422T051644
CREATED:20230517T225430Z
LAST-MODIFIED:20230517T225430Z
UID:10000983-1686141000-1686144600@community-minded.org
SUMMARY:CME -Kinside Info. Session for Early Learning Providers!
DESCRIPTION:Join Community-Minded Enterprises and Child Care Aware of Washington for an introduction to a new business support resource called Kinside! \nWhat is Kinside?\nAll Spokane County licensed providers only! We are now partnering with Kinside\, an easy-to-use platform that helps you share your open spots\, connect seamlessly with families\, and save time managing your waitlist. Thanks to the generous support of the City of Spokane and the Women Helping Women Fund\, you have free access to Kinside!\nTo get started\, join one of our upcoming Virtual Zoom Info. sessions to hear about this exciting new resource. \nThe CME Info Session is virtual using the ZOOM platform. \nTo register for an info session\, click here
URL:https://community-minded.org/event/cme-kinside-info-session-for-early-learning-providers/
LOCATION:WA
CATEGORIES:Early Learning -Spokane County
ORGANIZER;CN="Community-Minded Enterprises and CCA of Eastern WA":MAILTO:professionaldevelopment@community-minded.org
END:VEVENT
BEGIN:VEVENT
DTSTART;TZID=America/Los_Angeles:20230607T183000
DTEND;TZID=America/Los_Angeles:20230607T193000
DTSTAMP:20260422T051644
CREATED:20230517T230031Z
LAST-MODIFIED:20230607T234938Z
UID:10000984-1686162600-1686166200@community-minded.org
SUMMARY:CME-Kinside Info Session for Early Learning Providers
DESCRIPTION:Join Community-Minded Enterprises and Child Care Aware of Washington for an introduction to a new business support resource called Kinside! \nWhat is Kinside?\nAll Spokane County licensed providers only! We are now partnering with Kinside\, an easy-to-use platform that helps you share your open spots\, connect seamlessly with families\, and save time managing your waitlist. Thanks to the generous support of the City of Spokane and the Women Helping Women Fund\, you have free access to Kinside!\nTo get started\, join one of our upcoming Virtual Zoom Info. sessions to hear about this exciting new resource. \nThe CME Info Session is virtual using the ZOOM platform. \nTo register for and Info. Session click here.    \n  \n  \n  \n  \n 
URL:https://community-minded.org/event/cme-kinside-info-session-for-early-learning-providers-2/
LOCATION:WA
CATEGORIES:Early Learning -Spokane County
ORGANIZER;CN="Community-Minded Enterprises and CCA of Eastern WA":MAILTO:professionaldevelopment@community-minded.org
END:VEVENT
BEGIN:VEVENT
DTSTART;TZID=America/Los_Angeles:20230628T183000
DTEND;TZID=America/Los_Angeles:20230628T193000
DTSTAMP:20260422T051644
CREATED:20230517T230637Z
LAST-MODIFIED:20230619T174304Z
UID:10000985-1687977000-1687980600@community-minded.org
SUMMARY:CME- Kinside Info. Session for Early Learning providers
DESCRIPTION:Join Community-Minded Enterprises and Child Care Aware of Washington for an introduction to a new business support resource called Kinside!\nAll Spokane County licensed providers only! We are now partnering with Kinside\, an easy-to-use platform that helps you share your open spots\, connect seamlessly with families\, and save time managing your waitlist. Thanks to the generous support of the City of Spokane and the Women Helping Women Fund\, you have free access to Kinside! To get started\, join one of our upcoming Virtual Zoom Info. Sessions to hear about this exciting new resource. The CME Info Session is virtual using the ZOOM platform. \nVisit Kinside’s website!
URL:https://community-minded.org/event/cme-kinside-info-session-for-early-learning-providers-3/
LOCATION:WA
CATEGORIES:Early Learning -Spokane County
ORGANIZER;CN="Community-Minded Enterprises and CCA of Eastern WA":MAILTO:professionaldevelopment@community-minded.org
END:VEVENT
END:VCALENDAR