BEGIN:VCALENDAR
VERSION:2.0
PRODID:-//Community Minded Enterprises - ECPv6.15.20//NONSGML v1.0//EN
CALSCALE:GREGORIAN
METHOD:PUBLISH
X-ORIGINAL-URL:https://community-minded.org
X-WR-CALDESC:Events for Community Minded Enterprises
REFRESH-INTERVAL;VALUE=DURATION:PT1H
X-Robots-Tag:noindex
X-PUBLISHED-TTL:PT1H
BEGIN:VTIMEZONE
TZID:America/Los_Angeles
BEGIN:DAYLIGHT
TZOFFSETFROM:-0800
TZOFFSETTO:-0700
TZNAME:PDT
DTSTART:20220313T100000
END:DAYLIGHT
BEGIN:STANDARD
TZOFFSETFROM:-0700
TZOFFSETTO:-0800
TZNAME:PST
DTSTART:20221106T090000
END:STANDARD
BEGIN:DAYLIGHT
TZOFFSETFROM:-0800
TZOFFSETTO:-0700
TZNAME:PDT
DTSTART:20230312T100000
END:DAYLIGHT
BEGIN:STANDARD
TZOFFSETFROM:-0700
TZOFFSETTO:-0800
TZNAME:PST
DTSTART:20231105T090000
END:STANDARD
BEGIN:DAYLIGHT
TZOFFSETFROM:-0800
TZOFFSETTO:-0700
TZNAME:PDT
DTSTART:20240310T100000
END:DAYLIGHT
BEGIN:STANDARD
TZOFFSETFROM:-0700
TZOFFSETTO:-0800
TZNAME:PST
DTSTART:20241103T090000
END:STANDARD
END:VTIMEZONE
BEGIN:VEVENT
DTSTART;TZID=America/Los_Angeles:20231104T090000
DTEND;TZID=America/Los_Angeles:20231104T170000
DTSTAMP:20260421T225507
CREATED:20230829T214306Z
LAST-MODIFIED:20230913T230152Z
UID:10001002-1699088400-1699117200@community-minded.org
SUMMARY:Washington Pyramid Model- Implementing Inclusive and Equitable Pyramid Model Practices for Preschool (In-person\, Spokane))
DESCRIPTION:Dates: November 4\, November 18 \nSTARS: 14 after completing all sessions \nTrainer: Rebekah Klemke \nDescription: \nCome learn about the Pyramid framework\, a research-based tool that can guide us as we support social-emotional development in children. This 14-hour class will help you understand and apply strategies for building relationships and collaborating with families; understand and apply social emotional learning practices in your work; and reflect on your own implicit biases while you work to create anti-biased\, anti-racist\, and trauma-informed programs that meet the needs of all children within a high-quality learning environment. \nThis class will take place over two Saturdays and you must attend both. Before\, registering\, please make sure you are available for all sessions.
URL:https://community-minded.org/event/washington-pyramid-model-implementing-inclusive-and-equitable-pyramid-model-practices-for-preschool-in-person-spokane/
LOCATION:Division Office\, 2001 N Division St\, Ste 130\, Spokane\, 99207\, United States
CATEGORIES:Early Learning -Spokane County
ORGANIZER;CN="Child Care Aware of Eastern Washington":MAILTO:ProfessionalDevelopment@community-minded.org
GEO:47.6759968;-117.4115961
X-APPLE-STRUCTURED-LOCATION;VALUE=URI;X-ADDRESS=Division Office 2001 N Division St Ste 130 Spokane 99207 United States;X-APPLE-RADIUS=500;X-TITLE=2001 N Division St\, Ste 130:geo:-117.4115961,47.6759968
END:VEVENT
END:VCALENDAR