BEGIN:VCALENDAR
VERSION:2.0
PRODID:-//Community Minded Enterprises - ECPv6.15.20//NONSGML v1.0//EN
CALSCALE:GREGORIAN
METHOD:PUBLISH
X-ORIGINAL-URL:https://community-minded.org
X-WR-CALDESC:Events for Community Minded Enterprises
REFRESH-INTERVAL;VALUE=DURATION:PT1H
X-Robots-Tag:noindex
X-PUBLISHED-TTL:PT1H
BEGIN:VTIMEZONE
TZID:America/Los_Angeles
BEGIN:DAYLIGHT
TZOFFSETFROM:-0800
TZOFFSETTO:-0700
TZNAME:PDT
DTSTART:20210314T100000
END:DAYLIGHT
BEGIN:STANDARD
TZOFFSETFROM:-0700
TZOFFSETTO:-0800
TZNAME:PST
DTSTART:20211107T090000
END:STANDARD
BEGIN:DAYLIGHT
TZOFFSETFROM:-0800
TZOFFSETTO:-0700
TZNAME:PDT
DTSTART:20220313T100000
END:DAYLIGHT
BEGIN:STANDARD
TZOFFSETFROM:-0700
TZOFFSETTO:-0800
TZNAME:PST
DTSTART:20221106T090000
END:STANDARD
BEGIN:DAYLIGHT
TZOFFSETFROM:-0800
TZOFFSETTO:-0700
TZNAME:PDT
DTSTART:20230312T100000
END:DAYLIGHT
BEGIN:STANDARD
TZOFFSETFROM:-0700
TZOFFSETTO:-0800
TZNAME:PST
DTSTART:20231105T090000
END:STANDARD
END:VTIMEZONE
BEGIN:VEVENT
DTSTART;TZID=America/Los_Angeles:20220426T183000
DTEND;TZID=America/Los_Angeles:20220426T203000
DTSTAMP:20260422T174105
CREATED:20220222T171028Z
LAST-MODIFIED:20220222T171157Z
UID:10000927-1650997800-1651005000@community-minded.org
SUMMARY:Art for Discovery (In-Person Spokane)
DESCRIPTION:Core Competences: Curriculum and Learning Environment\, Level 2 \nTrainer: Denise Ellenwood\, Jamie Burns \nDescription: \nDo you ever feel like your art time is not what you want it to be? Do you or the children end up getting frustrated with projects? Or are you just out of fresh ideas? This training is designed to help early learning professionals better understand why art is important\, identify what type of art is developmentally appropriate for children\, and discuss great ways to implement and display children’s art in the child care environment. Teachers will leave with ideas for art projects that provide children with fun opportunities for discovery and learning. \nIf circumstances force our cancellation of in-person classes (or a shift to an online format)\, we will contact those who are registered. Likewise\, if COVID conditions or protocols lead you to want to cancel your attendance\, please let us know by noon the day before your class and we will issue you a full refund or offer a swap if appropriate. \nThe following protocols will be followed: \n\nSurfaces will be disinfected prior to class\nGuests will be asked to answer a health screening upon entry\nIf you are showing any symptoms of illness\, please do not attend\nClass sizes will be limited to accommodate individuals  spaced 6 feet part (register early to save your seat)\nWindows and doors may be at least partially open to encourage air flow (consider layering up)\nMasks will be required for all participants (please bring your own)\nHand sanitizer will be available in our classrooms\nWe are requesting that you bring your own pen/pencil and paper\, to avoid sharing materials\nFor safety reasons we will not be eating in our training spaces at this time.\n\nWe would like everyone who attends our trainings to have the opportunity to benefit from their learning. If you require accommodations to fully participate\, please contact professionaldevelopment@community-minded.org at least one week in advance of the training.
URL:https://community-minded.org/event/art-for-discovery-in-person-spokane/
LOCATION:Resource Center For Early Learning Professionals\, 3307 E. 55th Ave.\, Spokane\, WA\, 99223\, United States
CATEGORIES:Early Learning- Spokane and Northeast WA
ORGANIZER;CN="Child Care Aware of Eastern Washington":MAILTO:ProfessionalDevelopment@community-minded.org
GEO:47.6042018;-117.3628473
X-APPLE-STRUCTURED-LOCATION;VALUE=URI;X-ADDRESS=Resource Center For Early Learning Professionals 3307 E. 55th Ave. Spokane WA 99223 United States;X-APPLE-RADIUS=500;X-TITLE=3307 E. 55th Ave.:geo:-117.3628473,47.6042018
END:VEVENT
END:VCALENDAR