BEGIN:VCALENDAR
VERSION:2.0
PRODID:-//Community Minded Enterprises - ECPv6.15.20//NONSGML v1.0//EN
CALSCALE:GREGORIAN
METHOD:PUBLISH
X-ORIGINAL-URL:https://community-minded.org
X-WR-CALDESC:Events for Community Minded Enterprises
REFRESH-INTERVAL;VALUE=DURATION:PT1H
X-Robots-Tag:noindex
X-PUBLISHED-TTL:PT1H
BEGIN:VTIMEZONE
TZID:America/Los_Angeles
BEGIN:DAYLIGHT
TZOFFSETFROM:-0800
TZOFFSETTO:-0700
TZNAME:PDT
DTSTART:20220313T100000
END:DAYLIGHT
BEGIN:STANDARD
TZOFFSETFROM:-0700
TZOFFSETTO:-0800
TZNAME:PST
DTSTART:20221106T090000
END:STANDARD
BEGIN:DAYLIGHT
TZOFFSETFROM:-0800
TZOFFSETTO:-0700
TZNAME:PDT
DTSTART:20230312T100000
END:DAYLIGHT
BEGIN:STANDARD
TZOFFSETFROM:-0700
TZOFFSETTO:-0800
TZNAME:PST
DTSTART:20231105T090000
END:STANDARD
BEGIN:DAYLIGHT
TZOFFSETFROM:-0800
TZOFFSETTO:-0700
TZNAME:PDT
DTSTART:20240310T100000
END:DAYLIGHT
BEGIN:STANDARD
TZOFFSETFROM:-0700
TZOFFSETTO:-0800
TZNAME:PST
DTSTART:20241103T090000
END:STANDARD
END:VTIMEZONE
BEGIN:VEVENT
DTSTART;TZID=America/Los_Angeles:20231007T100000
DTEND;TZID=America/Los_Angeles:20231007T143000
DTSTAMP:20260421T125330
CREATED:20230810T203954Z
LAST-MODIFIED:20231003T155402Z
UID:10000996-1696672800-1696689000@community-minded.org
SUMMARY:Don’t Look Away: Embracing an Anti-Bias Classroom in Family Child Care (In-person\, Spokane)
DESCRIPTION:Core Competencies: Professional Development & Leadership\, Family & Community Partnerships\, Level 4 \nTrainer: Tamra Dschaak\, Sharon Enright \nSTARS: 8 \nDescription:  \nEvery day\, 250 children are suspended from school. Many are children of color\, deprived of opportunities to experience learning at the same rate and quality as white children. This book study will lead early childhood professionals to explore and address issues of bias\, equity\, low expectations\, and family engagement to ensure culturally responsive experiences. Importantly\, this book study will challenge you to consider your perceptions and thought processes. \nIn order to participate\, you will need to purchase the book Don’t Look Away: Embracing Anti-Bias Classrooms by Iheoma Iruka and complete pre-reading before each training session. \n\nBefore October 7: Read pg. 1-56\nBefore October 28: Read pg. 57-117\n\n  \nAmazon: https://www.amazon.com/Dont-Look-Away-Embracing-Classrooms/dp/0876598432 \nKaplan: https://www.gryphonhouse.com/books/details/dont-look-away \nWe would like everyone who attends our trainings to have the opportunity to benefit from their learning. If you require accommodations to fully participate\, please contact professionaldevelopment@community-minded.org at least one week in advance of the training. \nTo view training policies\, including the late arrival and cancellation policies\, please click here
URL:https://community-minded.org/event/dont-look-away-embracing-an-anti-bias-classroom-in-family-child-care-in-person-spokane/
LOCATION:Spokane Office\, 2001 N Division St\, Ste 130\, Spokane\, WA\, 99207\, United States
CATEGORIES:Early Learning- Spokane and Northeast WA
ORGANIZER;CN="Child Care Aware of Eastern Washington":MAILTO:ProfessionalDevelopment@community-minded.org
END:VEVENT
END:VCALENDAR