BEGIN:VCALENDAR
VERSION:2.0
PRODID:-//Community Minded Enterprises - ECPv6.15.20//NONSGML v1.0//EN
CALSCALE:GREGORIAN
METHOD:PUBLISH
X-WR-CALNAME:Community Minded Enterprises
X-ORIGINAL-URL:https://community-minded.org
X-WR-CALDESC:Events for Community Minded Enterprises
REFRESH-INTERVAL;VALUE=DURATION:PT1H
X-Robots-Tag:noindex
X-PUBLISHED-TTL:PT1H
BEGIN:VTIMEZONE
TZID:America/Los_Angeles
BEGIN:DAYLIGHT
TZOFFSETFROM:-0800
TZOFFSETTO:-0700
TZNAME:PDT
DTSTART:20220313T100000
END:DAYLIGHT
BEGIN:STANDARD
TZOFFSETFROM:-0700
TZOFFSETTO:-0800
TZNAME:PST
DTSTART:20221106T090000
END:STANDARD
BEGIN:DAYLIGHT
TZOFFSETFROM:-0800
TZOFFSETTO:-0700
TZNAME:PDT
DTSTART:20230312T100000
END:DAYLIGHT
BEGIN:STANDARD
TZOFFSETFROM:-0700
TZOFFSETTO:-0800
TZNAME:PST
DTSTART:20231105T090000
END:STANDARD
BEGIN:DAYLIGHT
TZOFFSETFROM:-0800
TZOFFSETTO:-0700
TZNAME:PDT
DTSTART:20240310T100000
END:DAYLIGHT
BEGIN:STANDARD
TZOFFSETFROM:-0700
TZOFFSETTO:-0800
TZNAME:PST
DTSTART:20241103T090000
END:STANDARD
END:VTIMEZONE
BEGIN:VEVENT
DTSTART;TZID=America/Los_Angeles:20231211T090000
DTEND;TZID=America/Los_Angeles:20231211T153000
DTSTAMP:20260421T090252
CREATED:20231026T223359Z
LAST-MODIFIED:20231206T224602Z
UID:10001008-1702285200-1702308600@community-minded.org
SUMMARY:Trauma-Informed Care Modules- Advanced (In-Person Spokane)
DESCRIPTION:Dates: December 11-December 15 during the workday \nLocation: 2001 N Division St\, Ste 130\, Spokane \nTrainer: Erika Larson \nDescription: \nAre you looking for a deep-dive into the topic of trauma-informed care? Join us for this unique learning experience where you will closely examine what trauma-informed care looks like. Come explore the impact of relationships on neurobiology\, learn about the prevalence of different types of trauma\, and improve your ability to integrate trauma-informed practices with children\, families\, and staff. This course will also address self-care and allow you to reflect on how your own thoughts\, feelings\, and behaviors can support regulation and resilience for yourself and those you interact with. You will complete the series better prepared to provide individualized\, responsive care for the children you serve. Our intention is to include time for you to learn\, be heard\, pause\, and reflect in a respectful space that allows personal growth and inner wisdom to emerge. This class is offered free of charge due to special grant funding.  Space is limited in person\, so participants should carefully consider their interests before registering. \nThis is an intensive class. You must attend all 5 days and complete 3-4 hours of homework each night in order to earn STARS hours.
URL:https://community-minded.org/event/trauma-informed-care-modules-advanced-in-person-spokane/
LOCATION:Division Office\, 2001 N Division St\, Ste 130\, Spokane\, 99207\, United States
CATEGORIES:Early Learning- Spokane and Northeast WA
ORGANIZER;CN="Child Care Aware of Eastern Washington":MAILTO:ProfessionalDevelopment@community-minded.org
GEO:47.6759968;-117.4115961
X-APPLE-STRUCTURED-LOCATION;VALUE=URI;X-ADDRESS=Division Office 2001 N Division St Ste 130 Spokane 99207 United States;X-APPLE-RADIUS=500;X-TITLE=2001 N Division St\, Ste 130:geo:-117.4115961,47.6759968
END:VEVENT
END:VCALENDAR