BEGIN:VCALENDAR
VERSION:2.0
PRODID:-//Community Minded Enterprises - ECPv6.15.20//NONSGML v1.0//EN
CALSCALE:GREGORIAN
METHOD:PUBLISH
X-ORIGINAL-URL:https://community-minded.org
X-WR-CALDESC:Events for Community Minded Enterprises
REFRESH-INTERVAL;VALUE=DURATION:PT1H
X-Robots-Tag:noindex
X-PUBLISHED-TTL:PT1H
BEGIN:VTIMEZONE
TZID:America/Los_Angeles
BEGIN:DAYLIGHT
TZOFFSETFROM:-0800
TZOFFSETTO:-0700
TZNAME:PDT
DTSTART:20230312T100000
END:DAYLIGHT
BEGIN:STANDARD
TZOFFSETFROM:-0700
TZOFFSETTO:-0800
TZNAME:PST
DTSTART:20231105T090000
END:STANDARD
BEGIN:DAYLIGHT
TZOFFSETFROM:-0800
TZOFFSETTO:-0700
TZNAME:PDT
DTSTART:20240310T100000
END:DAYLIGHT
BEGIN:STANDARD
TZOFFSETFROM:-0700
TZOFFSETTO:-0800
TZNAME:PST
DTSTART:20241103T090000
END:STANDARD
BEGIN:DAYLIGHT
TZOFFSETFROM:-0800
TZOFFSETTO:-0700
TZNAME:PDT
DTSTART:20250309T100000
END:DAYLIGHT
BEGIN:STANDARD
TZOFFSETFROM:-0700
TZOFFSETTO:-0800
TZNAME:PST
DTSTART:20251102T090000
END:STANDARD
END:VTIMEZONE
BEGIN:VEVENT
DTSTART;TZID=America/Los_Angeles:20240217T090000
DTEND;TZID=America/Los_Angeles:20240217T120000
DTSTAMP:20260421T072517
CREATED:20231130T230635Z
LAST-MODIFIED:20240102T221343Z
UID:10001012-1708160400-1708171200@community-minded.org
SUMMARY:Flip-It: Transforming Challenging Behaviors (in-person\, Spokane)
DESCRIPTION:Dates: February 17 & 24 \nCore Competences: Interactions\, Level 1-2 \nSTARS Hours: 6 \nFacilitator: Rebekah Klemke \nDescription: \nFlip It by Devereux Center for Resilient Children is a social emotional strategy to help young children learn about their feelings\, gain self-control and reduce challenging behaviors.  This technique is useful for all adults who interact with young children. Flip It can be used in targeted interventions for a child displaying specific behavioral concerns\, or during every-day minor challenges and conflicts. You must attend both days.
URL:https://community-minded.org/event/flip-it-transforming-challenging-behaviors-in-person-spokane/
LOCATION:Division Office\, 2001 N Division St\, Ste 130\, Spokane\, 99207\, United States
CATEGORIES:Early Learning- Spokane and Northeast WA
ORGANIZER;CN="Child Care Aware of Eastern Washington":MAILTO:ProfessionalDevelopment@community-minded.org
GEO:47.6759968;-117.4115961
X-APPLE-STRUCTURED-LOCATION;VALUE=URI;X-ADDRESS=Division Office 2001 N Division St Ste 130 Spokane 99207 United States;X-APPLE-RADIUS=500;X-TITLE=2001 N Division St\, Ste 130:geo:-117.4115961,47.6759968
END:VEVENT
END:VCALENDAR