BEGIN:VCALENDAR
VERSION:2.0
PRODID:-//Community Minded Enterprises - ECPv6.15.20//NONSGML v1.0//EN
CALSCALE:GREGORIAN
METHOD:PUBLISH
X-WR-CALNAME:Community Minded Enterprises
X-ORIGINAL-URL:https://community-minded.org
X-WR-CALDESC:Events for Community Minded Enterprises
REFRESH-INTERVAL;VALUE=DURATION:PT1H
X-Robots-Tag:noindex
X-PUBLISHED-TTL:PT1H
BEGIN:VTIMEZONE
TZID:UTC
BEGIN:STANDARD
TZOFFSETFROM:+0000
TZOFFSETTO:+0000
TZNAME:UTC
DTSTART:20180101T000000
END:STANDARD
END:VTIMEZONE
BEGIN:VEVENT
DTSTART;TZID=UTC:20191015T180000
DTEND;TZID=UTC:20191015T200000
DTSTAMP:20260419T185829
CREATED:20190822T044310Z
LAST-MODIFIED:20190822T044310Z
UID:10000762-1571162400-1571169600@community-minded.org
SUMMARY:Growing up Wild
DESCRIPTION:Just because the weather is changing doesn’t mean that you can’t use nature to help early learners explore questions and solutions using developmentally appropriate practices. Learn how to  help early learners connect with their natural world and develop skills in literacy\, math\, science\, art\, physical development\, and social/emotional development. You will earn 2 STARS hours.
URL:https://community-minded.org/event/growing-up-wild/
LOCATION:Resource Center For Early Learning Professionals\, 3307 E. 55th Ave.\, Spokane\, WA\, 99223\, United States
CATEGORIES:Early Learning- Spokane and Northeast WA
ORGANIZER;CN="Child Care Aware of Eastern Washington":MAILTO:ProfessionalDevelopment@community-minded.org
GEO:47.6042018;-117.3628473
X-APPLE-STRUCTURED-LOCATION;VALUE=URI;X-ADDRESS=Resource Center For Early Learning Professionals 3307 E. 55th Ave. Spokane WA 99223 United States;X-APPLE-RADIUS=500;X-TITLE=3307 E. 55th Ave.:geo:-117.3628473,47.6042018
END:VEVENT
END:VCALENDAR