BEGIN:VCALENDAR
VERSION:2.0
PRODID:-//Community Minded Enterprises - ECPv6.15.20//NONSGML v1.0//EN
CALSCALE:GREGORIAN
METHOD:PUBLISH
X-ORIGINAL-URL:https://community-minded.org
X-WR-CALDESC:Events for Community Minded Enterprises
REFRESH-INTERVAL;VALUE=DURATION:PT1H
X-Robots-Tag:noindex
X-PUBLISHED-TTL:PT1H
BEGIN:VTIMEZONE
TZID:America/Los_Angeles
BEGIN:DAYLIGHT
TZOFFSETFROM:-0800
TZOFFSETTO:-0700
TZNAME:PDT
DTSTART:20210314T100000
END:DAYLIGHT
BEGIN:STANDARD
TZOFFSETFROM:-0700
TZOFFSETTO:-0800
TZNAME:PST
DTSTART:20211107T090000
END:STANDARD
BEGIN:DAYLIGHT
TZOFFSETFROM:-0800
TZOFFSETTO:-0700
TZNAME:PDT
DTSTART:20220313T100000
END:DAYLIGHT
BEGIN:STANDARD
TZOFFSETFROM:-0700
TZOFFSETTO:-0800
TZNAME:PST
DTSTART:20221106T090000
END:STANDARD
BEGIN:DAYLIGHT
TZOFFSETFROM:-0800
TZOFFSETTO:-0700
TZNAME:PDT
DTSTART:20230312T100000
END:DAYLIGHT
BEGIN:STANDARD
TZOFFSETFROM:-0700
TZOFFSETTO:-0800
TZNAME:PST
DTSTART:20231105T090000
END:STANDARD
END:VTIMEZONE
BEGIN:VEVENT
DTSTART;TZID=America/Los_Angeles:20220304T150000
DTEND;TZID=America/Los_Angeles:20220304T210000
DTSTAMP:20260423T042835
CREATED:20220112T185902Z
LAST-MODIFIED:20220303T214458Z
UID:10000923-1646406000-1646427600@community-minded.org
SUMMARY:Recovery Coach Training
DESCRIPTION:This training is designed for those interested in promoting the health and wellness of people with substance abuse disorders. Learn to help remove barriers and obstacles to recovery for those seeking or already in recovery. \nThis training takes place over four days. \n\nFriday\, March 4\, 2022 – 3pm – 8pm\nSaturday & Sunday March 5-7\, 2022 9am – 5pm\n\nCost for this training is $200 and includes a manual \nSnacks and coffee will be available however meals will not be provided. There are several meal options in the area. \nIf you have questions or need further assistance\, please contact Christine at Recovery Café Spokane 509-960-8525 or ChristineM@community-minded.org\n \n  \nThis training is offered by Recovery Café Spokane and the State Opioid Response (SOR). It is part of the Recovery Coach Academy and is taught by Connecticut Community for Addiction Recovery trained trainers. \n  \n 
URL:https://community-minded.org/event/recovery-coach-training-4/
LOCATION:Recovery Cafe Spokane\, 622 E 2nd Ave\, Spokane\, WA\, 99202\, United States
CATEGORIES:Recovery Services
ORGANIZER;CN="Recovery Cafe Spokane":MAILTO:RecoveryCafe@community-minded.org
GEO:47.6596509;-117.432671
X-APPLE-STRUCTURED-LOCATION;VALUE=URI;X-ADDRESS=Recovery Cafe Spokane 622 E 2nd Ave Spokane WA 99202 United States;X-APPLE-RADIUS=500;X-TITLE=622 E 2nd Ave:geo:-117.432671,47.6596509
END:VEVENT
END:VCALENDAR