BEGIN:VCALENDAR
VERSION:2.0
PRODID:-//Community Minded Enterprises - ECPv6.15.20//NONSGML v1.0//EN
CALSCALE:GREGORIAN
METHOD:PUBLISH
X-ORIGINAL-URL:https://community-minded.org
X-WR-CALDESC:Events for Community Minded Enterprises
REFRESH-INTERVAL;VALUE=DURATION:PT1H
X-Robots-Tag:noindex
X-PUBLISHED-TTL:PT1H
BEGIN:VTIMEZONE
TZID:America/Los_Angeles
BEGIN:DAYLIGHT
TZOFFSETFROM:-0800
TZOFFSETTO:-0700
TZNAME:PDT
DTSTART:20200308T100000
END:DAYLIGHT
BEGIN:STANDARD
TZOFFSETFROM:-0700
TZOFFSETTO:-0800
TZNAME:PST
DTSTART:20201101T090000
END:STANDARD
BEGIN:DAYLIGHT
TZOFFSETFROM:-0800
TZOFFSETTO:-0700
TZNAME:PDT
DTSTART:20210314T100000
END:DAYLIGHT
BEGIN:STANDARD
TZOFFSETFROM:-0700
TZOFFSETTO:-0800
TZNAME:PST
DTSTART:20211107T090000
END:STANDARD
BEGIN:DAYLIGHT
TZOFFSETFROM:-0800
TZOFFSETTO:-0700
TZNAME:PDT
DTSTART:20220313T100000
END:DAYLIGHT
BEGIN:STANDARD
TZOFFSETFROM:-0700
TZOFFSETTO:-0800
TZNAME:PST
DTSTART:20221106T090000
END:STANDARD
END:VTIMEZONE
BEGIN:VEVENT
DTSTART;TZID=America/Los_Angeles:20211016T090000
DTEND;TZID=America/Los_Angeles:20211016T170000
DTSTAMP:20260423T151335
CREATED:20210914T185526Z
LAST-MODIFIED:20211003T233632Z
UID:10000908-1634374800-1634403600@community-minded.org
SUMMARY:CCAR Recovery Coach Training
DESCRIPTION:This training is designed for those interested in promoting the health and wellness of people with substance abuse disorders.  Learn to help remove barriers and obstacles to recovery for those seeking or already in recovery. \nTraining will take place over two weekends in October 2021 \n\nOctober 16-17th and 23-24th\n8:00am – 5:00pm each day\n\n$200 registration fee includes an instruction manual. \nThere will be snacks available throughout the day.  Lunch will not be provided however there are many lunch options in the area. \nIf you have questions or need further assistance\,  please contact Christine at Recovery Café Spokane 509-960-8525 or christinem@community-minded.org\n \n  \nThis training is offered by Recovery Café Spokane and the State Opioid Response (SOR). It is part of the Recovery Coach Academy and is taught by Connecticut Community for Addiction Recovery trained trainers.
URL:https://community-minded.org/event/ccar-recovery-coach-training/
LOCATION:Community-Minded Enterprises\, 2001 N Division St Ste 130\, Spokane\, WA\, 99207\, United States
CATEGORIES:Recovery Services
ATTACH;FMTTYPE=image/jpeg:https://community-minded.org/wp-content/uploads/2021/09/holding-hands-2-scaled-e1633553938947.jpg
ORGANIZER;CN="Recovery Cafe Spokane":MAILTO:RecoveryCafe@community-minded.org
GEO:47.6759968;-117.4115961
X-APPLE-STRUCTURED-LOCATION;VALUE=URI;X-ADDRESS=Community-Minded Enterprises 2001 N Division St Ste 130 Spokane WA 99207 United States;X-APPLE-RADIUS=500;X-TITLE=2001 N Division St Ste 130:geo:-117.4115961,47.6759968
END:VEVENT
END:VCALENDAR