BEGIN:VCALENDAR
VERSION:2.0
PRODID:-//Community Minded Enterprises - ECPv6.15.20//NONSGML v1.0//EN
CALSCALE:GREGORIAN
METHOD:PUBLISH
X-WR-CALNAME:Community Minded Enterprises
X-ORIGINAL-URL:https://community-minded.org
X-WR-CALDESC:Events for Community Minded Enterprises
REFRESH-INTERVAL;VALUE=DURATION:PT1H
X-Robots-Tag:noindex
X-PUBLISHED-TTL:PT1H
BEGIN:VTIMEZONE
TZID:UTC
BEGIN:STANDARD
TZOFFSETFROM:+0000
TZOFFSETTO:+0000
TZNAME:UTC
DTSTART:20180101T000000
END:STANDARD
END:VTIMEZONE
BEGIN:VEVENT
DTSTART;TZID=UTC:20191106T183000
DTEND;TZID=UTC:20191106T203000
DTSTAMP:20260419T224906
CREATED:20191010T231404Z
LAST-MODIFIED:20191010T231404Z
UID:10000778-1573065000-1573072200@community-minded.org
SUMMARY:Child Care WACs Conversation - Dinner Session
DESCRIPTION:The Inland Northwest Early Learning Alliance is hosting two facilitated conversations around the new child care WACs. \nWe’ve invited Travis Hansen\, Statewide Licensing Administrator\, DCYF and Judy Bunkelman\, Licensing Monitor & Risk Management Coordinator\, DCYF to answer your questions and hear about your experiences. \nThis is your chance to let the Department of Children\, Youth\, and Families know: \n\nWhat is working well.\nWhat is confusing.\nWhat is challenging\nWhat is missing.\n\nAlso on hand will be members of the Inland Northwest Early Learning Alliance\, Early Achievers Coaches and local licensors to listen and record your ideas and questions.  Questions can be submitted in advance to jillj@community-minded.org \nNovember 6 / 6:30pm -8:30pm \nRegistration in advance is requested. Parking vouchers available. \nAppetizers\, water\, tea and coffee provided \nCost  – Free \n  \nDavenport Hotel – Early Bird Ballroom (downstairs across from the spa) \n10 S Post St \n Spokane\, WA 99201 \n 
URL:https://community-minded.org/event/child-care-wacs-conversation-dinner-session/
CATEGORIES:Early Learning- Spokane and Northeast WA
ORGANIZER;CN="INWELA":MAILTO:jillj@community-minded.org
END:VEVENT
BEGIN:VEVENT
DTSTART;TZID=UTC:20191106T183000
DTEND;TZID=UTC:20191106T203000
DTSTAMP:20260419T224906
CREATED:20191010T231404Z
LAST-MODIFIED:20191010T231404Z
UID:10000779-1573065000-1573072200@community-minded.org
SUMMARY:Child Care WACs Conversation - Dinner Session
DESCRIPTION:The Inland Northwest Early Learning Alliance is hosting two facilitated conversations around the new child care WACs.\nWe’ve invited Travis Hansen\, Statewide Licensing Administrator\, DCYF and Judy Bunkelman\, Licensing Monitor & Risk Management Coordinator\, DCYF to answer your questions and hear about your experiences.\nThis is your chance to let the Department of Children\, Youth\, and Families know: \n\nWhat is working well.\nWhat is confusing.\nWhat is challenging\nWhat is missing.\n\nAlso on hand will be members of the Inland Northwest Early Learning Alliance\, Early Achievers Coaches and local licensors to listen and record your ideas and questions.  Questions can be submitted in advance to jillj@community-minded.org\nNovember 6 / 6:30pm -8:30pm\nRegistration in advance is requested. Parking vouchers available.\nAppetizers\, water\, tea and coffee provided\nCost  – Free\n \nDavenport Hotel – Early Bird Ballroom (downstairs across from the spa)\n10 S Post St\n Spokane\, WA 99201\n 
URL:https://community-minded.org/event/child-care-wacs-conversation-dinner-session-2/
CATEGORIES:Early Learning- Spokane and Northeast WA
ORGANIZER;CN="INWELA":MAILTO:jillj@community-minded.org
END:VEVENT
BEGIN:VEVENT
DTSTART;TZID=UTC:20191106T123000
DTEND;TZID=UTC:20191106T143000
DTSTAMP:20260419T224906
CREATED:20191010T222938Z
LAST-MODIFIED:20191010T222938Z
UID:10000776-1573043400-1573050600@community-minded.org
SUMMARY:Child Care WACs Conversation - Lunch Session
DESCRIPTION:The Inland Northwest Early Learning Alliance is hosting two facilitated conversations around the new child care WACs. \nWe’ve invited Travis Hansen\, Statewide Licensing Administrator\, DCYF and Judy Bunkelman\, Licensing Monitor & Risk Management Coordinator\, DCYF to answer your questions and hear about your experiences. \nThis is your chance to let the Department of Children\, Youth\, and Families know: \n\nWhat is working well.\nWhat is confusing.\nWhat is challenging\nWhat is missing.\n\nAlso on hand will be members of the Inland Northwest Early Learning Alliance\, Early Achievers Coaches and local licensors to listen and record your ideas and questions.  Questions can be submitted in advance to jillj@community-minded.org \nNovember 6 / 12:30pm -2:30pm \nRegistration in advance is requested. Parking vouchers available. \nBox lunch\, water\, tea and coffee provided (Vegan and vegetarian options available if requested by October 29) \nCost  – Free \n  \nDavenport Hotel – Early Bird Ballroom (downstairs across from the spa) \n10 S Post St \n Spokane\, WA 99201 \n 
URL:https://community-minded.org/event/child-care-wacs-conversation-lunch-session/
LOCATION:Davenport Hotel – Early Bird Ballroom\, 10 S Post St\, Spokane\, WA\, 99201\, United States
CATEGORIES:Early Learning- Spokane and Northeast WA
ORGANIZER;CN="INWELA":MAILTO:jillj@community-minded.org
END:VEVENT
BEGIN:VEVENT
DTSTART;TZID=UTC:20191106T123000
DTEND;TZID=UTC:20191106T143000
DTSTAMP:20260419T224906
CREATED:20191010T222938Z
LAST-MODIFIED:20191010T222938Z
UID:10000777-1573043400-1573050600@community-minded.org
SUMMARY:Child Care WACs Conversation - Lunch Session
DESCRIPTION:The Inland Northwest Early Learning Alliance is hosting two facilitated conversations around the new child care WACs. \nWe’ve invited Travis Hansen\, Statewide Licensing Administrator\, DCYF and Judy Bunkelman\, Licensing Monitor & Risk Management Coordinator\, DCYF to answer your questions and hear about your experiences.\nThis is your chance to let the Department of Children\, Youth\, and Families know: \n\nWhat is working well.\nWhat is confusing.\nWhat is challenging\nWhat is missing.\n\nAlso on hand will be members of the Inland Northwest Early Learning Alliance\, Early Achievers Coaches and local licensors to listen and record your ideas and questions.  Questions can be submitted in advance to jillj@community-minded.org\nNovember 6 / 12:30pm -2:30pm\nRegistration in advance is requested. Parking vouchers available.\nBox lunch\, water\, tea and coffee provided (Vegan and vegetarian options available if requested by October 29)\nCost  – Free\n \nDavenport Hotel – Early Bird Ballroom (downstairs across from the spa)\n10 S Post St\n Spokane\, WA 99201\n 
URL:https://community-minded.org/event/child-care-wacs-conversation-lunch-session-2/
LOCATION:Davenport Hotel – Early Bird Ballroom\, 10 S Post St\, Spokane\, WA\, 99201\, United States
CATEGORIES:Early Learning- Spokane and Northeast WA
ORGANIZER;CN="INWELA":MAILTO:jillj@community-minded.org
END:VEVENT
END:VCALENDAR