BEGIN:VCALENDAR
VERSION:2.0
PRODID:-//Community Minded Enterprises - ECPv6.15.20//NONSGML v1.0//EN
CALSCALE:GREGORIAN
METHOD:PUBLISH
X-WR-CALNAME:Community Minded Enterprises
X-ORIGINAL-URL:https://community-minded.org
X-WR-CALDESC:Events for Community Minded Enterprises
REFRESH-INTERVAL;VALUE=DURATION:PT1H
X-Robots-Tag:noindex
X-PUBLISHED-TTL:PT1H
BEGIN:VTIMEZONE
TZID:America/Los_Angeles
BEGIN:DAYLIGHT
TZOFFSETFROM:-0800
TZOFFSETTO:-0700
TZNAME:PDT
DTSTART:20240310T100000
END:DAYLIGHT
BEGIN:STANDARD
TZOFFSETFROM:-0700
TZOFFSETTO:-0800
TZNAME:PST
DTSTART:20241103T090000
END:STANDARD
BEGIN:DAYLIGHT
TZOFFSETFROM:-0800
TZOFFSETTO:-0700
TZNAME:PDT
DTSTART:20250309T100000
END:DAYLIGHT
BEGIN:STANDARD
TZOFFSETFROM:-0700
TZOFFSETTO:-0800
TZNAME:PST
DTSTART:20251102T090000
END:STANDARD
BEGIN:DAYLIGHT
TZOFFSETFROM:-0800
TZOFFSETTO:-0700
TZNAME:PDT
DTSTART:20260308T100000
END:DAYLIGHT
BEGIN:STANDARD
TZOFFSETFROM:-0700
TZOFFSETTO:-0800
TZNAME:PST
DTSTART:20261101T090000
END:STANDARD
END:VTIMEZONE
BEGIN:VEVENT
DTSTART;TZID=America/Los_Angeles:20250517T080000
DTEND;TZID=America/Los_Angeles:20250517T150000
DTSTAMP:20260419T134457
CREATED:20250320T203445Z
LAST-MODIFIED:20250516T204053Z
UID:10001061-1747468800-1747494000@community-minded.org
SUMMARY:Washington Pyramid Model- Implementing Inclusive and Equitable Pyramid Model Practices for Preschool *FSKA scholarship eligible
DESCRIPTION:Washington State Pyramid Model: Come learn about the Pyramid framework\, a research-based tool that can guide us as we support social-emotional development in children. This 14-hour class will help you understand and apply strategies for building relationships and collaborating with families; understand and apply social emotional learning practices in your work; and reflect on your own implicit biases while you work to create anti-biased\, anti-racist\, and trauma-informed programs that meet the needs of all children within a high-quality learning environment. \nClass Details: \n\nDates: Saturday\, May 17 and Saturday\, May 31\nTimes: 8:00am – 3:00pm\nLocation: 1831 E Mission Ave Spokane WA 99202\nInstructor: Rebekah Klemke\nCost: Free\nCredits: 14 STARS after completing all sessions\nLanguage: English
URL:https://community-minded.org/event/washington-pyramid-model-implementing-inclusive-and-equitable-pyramid-model-practices-for-preschool/
LOCATION:Community Minded Enterprises – Division Training\, 2001 N Division Ste 130\, Spokane\, WA\, 99207\, United States
CATEGORIES:Early Learning- Online
ORGANIZER;CN="Child Care Aware of Eastern Washington":MAILTO:ProfessionalDevelopment@community-minded.org
END:VEVENT
END:VCALENDAR