BEGIN:VCALENDAR
VERSION:2.0
PRODID:-//Community Minded Enterprises - ECPv6.15.20//NONSGML v1.0//EN
CALSCALE:GREGORIAN
METHOD:PUBLISH
X-ORIGINAL-URL:https://community-minded.org
X-WR-CALDESC:Events for Community Minded Enterprises
REFRESH-INTERVAL;VALUE=DURATION:PT1H
X-Robots-Tag:noindex
X-PUBLISHED-TTL:PT1H
BEGIN:VTIMEZONE
TZID:America/Los_Angeles
BEGIN:DAYLIGHT
TZOFFSETFROM:-0800
TZOFFSETTO:-0700
TZNAME:PDT
DTSTART:20210314T100000
END:DAYLIGHT
BEGIN:STANDARD
TZOFFSETFROM:-0700
TZOFFSETTO:-0800
TZNAME:PST
DTSTART:20211107T090000
END:STANDARD
BEGIN:DAYLIGHT
TZOFFSETFROM:-0800
TZOFFSETTO:-0700
TZNAME:PDT
DTSTART:20220313T100000
END:DAYLIGHT
BEGIN:STANDARD
TZOFFSETFROM:-0700
TZOFFSETTO:-0800
TZNAME:PST
DTSTART:20221106T090000
END:STANDARD
BEGIN:DAYLIGHT
TZOFFSETFROM:-0800
TZOFFSETTO:-0700
TZNAME:PDT
DTSTART:20230312T100000
END:DAYLIGHT
BEGIN:STANDARD
TZOFFSETFROM:-0700
TZOFFSETTO:-0800
TZNAME:PST
DTSTART:20231105T090000
END:STANDARD
BEGIN:DAYLIGHT
TZOFFSETFROM:-0800
TZOFFSETTO:-0700
TZNAME:PDT
DTSTART:20240310T100000
END:DAYLIGHT
BEGIN:STANDARD
TZOFFSETFROM:-0700
TZOFFSETTO:-0800
TZNAME:PST
DTSTART:20241103T090000
END:STANDARD
END:VTIMEZONE
BEGIN:VEVENT
DTSTART;TZID=America/Los_Angeles:20231007T100000
DTEND;TZID=America/Los_Angeles:20231007T143000
DTSTAMP:20260419T101253
CREATED:20230810T203954Z
LAST-MODIFIED:20231003T155402Z
UID:10000996-1696672800-1696689000@community-minded.org
SUMMARY:Don’t Look Away: Embracing an Anti-Bias Classroom in Family Child Care (In-person\, Spokane)
DESCRIPTION:Core Competencies: Professional Development & Leadership\, Family & Community Partnerships\, Level 4 \nTrainer: Tamra Dschaak\, Sharon Enright \nSTARS: 8 \nDescription:  \nEvery day\, 250 children are suspended from school. Many are children of color\, deprived of opportunities to experience learning at the same rate and quality as white children. This book study will lead early childhood professionals to explore and address issues of bias\, equity\, low expectations\, and family engagement to ensure culturally responsive experiences. Importantly\, this book study will challenge you to consider your perceptions and thought processes. \nIn order to participate\, you will need to purchase the book Don’t Look Away: Embracing Anti-Bias Classrooms by Iheoma Iruka and complete pre-reading before each training session. \n\nBefore October 7: Read pg. 1-56\nBefore October 28: Read pg. 57-117\n\n  \nAmazon: https://www.amazon.com/Dont-Look-Away-Embracing-Classrooms/dp/0876598432 \nKaplan: https://www.gryphonhouse.com/books/details/dont-look-away \nWe would like everyone who attends our trainings to have the opportunity to benefit from their learning. If you require accommodations to fully participate\, please contact professionaldevelopment@community-minded.org at least one week in advance of the training. \nTo view training policies\, including the late arrival and cancellation policies\, please click here
URL:https://community-minded.org/event/dont-look-away-embracing-an-anti-bias-classroom-in-family-child-care-in-person-spokane/
LOCATION:Spokane Office\, 2001 N Division St\, Ste 130\, Spokane\, WA\, 99207\, United States
CATEGORIES:Early Learning- Spokane and Northeast WA
ORGANIZER;CN="Child Care Aware of Eastern Washington":MAILTO:ProfessionalDevelopment@community-minded.org
END:VEVENT
BEGIN:VEVENT
DTSTART;TZID=America/Los_Angeles:20230318T090000
DTEND;TZID=America/Los_Angeles:20230318T120000
DTSTAMP:20260419T101253
CREATED:20221207T222910Z
LAST-MODIFIED:20230208T222108Z
UID:10000960-1679130000-1679140800@community-minded.org
SUMMARY:Flip-It: Transforming Challenging Behaviors (Spokane)
DESCRIPTION:If you are having technical difficulties registering on the internet\, please call (509)385-2780 for assistance with registration over the phone.\nDates: March 18 & March 25 \nCore Competences: Interactions Level 1-2 \nTrainer: Rebekah Klemke \nSTARS: 6 \nDescription: \nFlip It is a social emotional strategy to help young children learn about their feelings\, gain self-control and reduce challenging behaviors.  This technique is useful for all adults who interact with young children. Flip It can be used in targeted interventions for a child displaying specific behavioral concerns\, or during every-day minor challenges and conflicts. You must attend both days and will earn 6 STARS hours. \n  \nIf circumstances force our cancellation of in-person classes (or a shift to an online format)\, we will contact those who are registered. Likewise\, if COVID conditions or protocols lead you to want to cancel your attendance\, please let us know by noon the day before your class and we will issue you a full refund or offer a swap if appropriate. \nThe following protocols will be followed: \n\nSurfaces will be disinfected prior to class\nGuests will be asked to answer a health screening upon entry\nIf you are showing any symptoms of illness\, please do not attend\nClass sizes will be limited to accommodate individuals  spaced 6 feet part (register early to save your seat)\nWindows and doors may be at least partially open to encourage air flow (consider layering up)\nMasks are recommended for all participants (please bring your own)\nHand sanitizer will be available in our classrooms\nWe are requesting that you bring your own pen/pencil and paper\, to avoid sharing materials\nFor safety reasons we will not be eating in our training spaces at this time.
URL:https://community-minded.org/event/flip-it-transforming-challenging-behaviors-spokane/
LOCATION:Spokane Office\, 2001 N Division St\, Ste 130\, Spokane\, WA\, 99207\, United States
CATEGORIES:Early Learning- Spokane and Northeast WA
ORGANIZER;CN="Child Care Aware of Eastern Washington":MAILTO:ProfessionalDevelopment@community-minded.org
END:VEVENT
BEGIN:VEVENT
DTSTART;TZID=America/Los_Angeles:20220924T100000
DTEND;TZID=America/Los_Angeles:20220924T120000
DTSTAMP:20260419T101253
CREATED:20220816T194003Z
LAST-MODIFIED:20220921T175824Z
UID:10000946-1664013600-1664020800@community-minded.org
SUMMARY:Language Development from Birth to Three (in-person\, Spokane)
DESCRIPTION:If you are having technical difficulties registering on the internet\, please call (509)385-2780 for assistance with registration over the phone.\nLocation: 2001 N Division St\, Ste 130\, Spokane\, WA 99207 \nCore Competences: Child Growth and Development\, Ongoing Measurement of Child Progress\, Level 2-4 \nTrainer: Rebekah Klemke \nSTARS Hours: 2 \nDescription: \nParticipants will walk away with a deep understanding of receptive and expressive language milestones at each stage of development from birth to age 3. Participants will engage in hands-on activities and reflection around language development in their own classroom. Lastly\, participants will gain awareness around recognizing red flags in development and how to communicate effectively with parents to build and maintain relationships. \n  \nIf circumstances force our cancellation of in-person classes (or a shift to an online format)\, we will contact those who are registered. Likewise\, if COVID conditions or protocols lead you to want to cancel your attendance\, please let us know by noon the day before your class and we will issue you a full refund or offer a swap if appropriate. \nThe following protocols will be followed: \n\nSurfaces will be disinfected prior to class\nGuests will be asked to answer a health screening upon entry\nIf you are showing any symptoms of illness\, please do not attend\nClass sizes will be limited to accommodate individuals  spaced 6 feet part (register early to save your seat)\nWindows and doors may be at least partially open to encourage air flow (consider layering up)\nMasks will be required for all participants (please bring your own)\nHand sanitizer will be available in our classrooms\nWe are requesting that you bring your own pen/pencil and paper\, to avoid sharing materials\nFor safety reasons we will not be eating in our training spaces at this time.
URL:https://community-minded.org/event/language-development-from-birth-to-three-in-person-spokane-2/
LOCATION:Spokane Office\, 2001 N Division St\, Ste 130\, Spokane\, WA\, 99207\, United States
CATEGORIES:Early Learning- Spokane and Northeast WA
ORGANIZER;CN="Child Care Aware of Eastern Washington":MAILTO:ProfessionalDevelopment@community-minded.org
END:VEVENT
END:VCALENDAR